BEGIN:VCALENDAR
PRODID:RAVE.CA V17.0
X-WR-CALNAME:FRETTE 7e Edition
X-ORIGINAL-URL:https://www.rave.ca/event/52764/
VERSION:2.0
CALSCALE:GREGORIAN
METHOD:PUBLISH
BEGIN:VEVENT
DTSTAMP:20260422T031845Z
LAST-MODIFIED:20260422T031845Z
CREATED:20251129T182501Z
SEQUENCE:52764
ORGANIZER:Unknown
DTSTART:20251228T080000Z
DTEND:20251231T235900Z
UID:event_52764@rave.ca
SUMMARY:FRETTE 7e Edition
LOCATION:TBA
URL:https://www.rave.ca/event/52764/
DESCRIPTION:FRETTE\nFestival virtuel de musique ambiante / Virtual Ambient Music Festival\n\n7e Édition\n\n76h Non stop de dimanche à 8h\, Montréal (13h UTC) à mercredi à 12h (17h UTC)\n76h Non stop from Sunday 8AM\, Montreal (1PM UTC) to Wednesday 12PM (5PM UTC)\n\nSTREAM → lafaceb.live\n\n\nDIM / SUN 28-12\n- - - - - - - - - - - -\n8h-9h Alexandre Navarro - FR\n9h-10h N!kO & Ingetrapt (Live) - FR\n10h-11h Bohdan Stupak - UA\n11h-13h Cousin Silas - UK\n13-14h Apiaceae Tribus\n14h-15h maude.elle\n15h-17h FREEZE FRAME\n17h-18h Billy Dalessandro\n18h-19h vinciane (Live)\n19h-20 éloi\n20h-22h Monsieur Seb\n22h-23h Trevor Kiernander\n23h-0h Maxime Tanguay\n0h-1h kINGsILLON\n\nLUN / MON 29-12\n- - - - - - - - - - - -\n1h-5h TiND - 1/3\n5h-7h Hendekagon - DE\n7h-8h Substak - GR\n8h-9h LR Friberg - SE\n9h-10h Le Boucher\n10h-12h Stefan Dürsen - FR\n12h-13h UAIV\n13h-14h Pop poussière\n14h-15h Guillaume Coutu Dumont\n15h-16h Moshé Galactik (Live) - FR\n16h-17h jeansebRoux\n17h-19h Daoust\n19h-20h Bootsy Yo\n20h-21h Alain Cliche\n21h-23h RaieManta\n23h-1h The Institute of Spectra-Sonic Sound - US\n\nMAR / TUES 30-12\n- - - - - - - - - - - -\n1h-5h TiND - 2/3\n5h-7h Fhex - BE\n7h-9h kmi\n9h-10h XI Horam - AR\n10h-12h Silence Is A Word - CH\n12h-13h Stefan from Of Tanz\n13h-14h Atheus\n14h-15h Lumia Sylko - CH\n15h-16h Coppergear\n16h-18h AZART (РАДИОИЗОЛЯЦИЯ) - RU\n18h-20h Sri Lalla\n20h-22h Mimi le Méchant\n22h-23h Miss141 (Live)\n23h-1h Audiozobe\n\nMER / WED 31-12\n- - - - - - - - - - - -\n1h-5h TiND - 3/3\n5h-6h Exthausiva - AR\n6h-8h DCIDE - FR\n8h-9h Signalstoerung - DE\n9h-10h Phase C\n10h-11h Limina Nocturnal Sounds\n11h-12h Renaud Armstrong\n\n\nTous les artistes sont du Québec\, sauf indication contraire / All artists are from Quebec\, unless otherwise stated
CLASS:PUBLIC
CATEGORIES:
STATUS:CONFIRMED
PARTSTAT:ACCEPTED
END:VEVENT
END:VCALENDAR
