BEGIN:VCALENDAR
PRODID:RAVE.CA V17.0
X-WR-CALNAME:The Gallery Presents: Sauvage
X-ORIGINAL-URL:https://www.rave.ca/event/52568/
VERSION:2.0
CALSCALE:GREGORIAN
METHOD:PUBLISH
BEGIN:VEVENT
DTSTAMP:20251019T145548Z
LAST-MODIFIED:20251019T145548Z
CREATED:20251019T145542Z
SEQUENCE:52568
ORGANIZER:Unknown
DTSTART:20251101T220000Z
DTEND:20251102T080000Z
UID:event_52568@rave.ca
SUMMARY:The Gallery Presents: Sauvage
LOCATION:NWHR
URL:https://www.rave.ca/event/52568/
DESCRIPTION:The Gallery invades Montreal with a wild Hallowe’en event! SAUVAGE! Featuring tricks by Toronto DJ legend Carlo Lio\, Carabetta and Montreal’s own Room Service and Aftersix. There will be lots of treats for bad boys and girls\, so get fierce! Bring good vibes and dancing shoes!
CLASS:PUBLIC
CATEGORIES:
STATUS:CONFIRMED
PARTSTAT:ACCEPTED
END:VEVENT
END:VCALENDAR
