BEGIN:VCALENDAR
PRODID:RAVE.CA V17.0
X-WR-CALNAME:Pandemonium
X-ORIGINAL-URL:https://www.rave.ca/event/52566/
VERSION:2.0
CALSCALE:GREGORIAN
METHOD:PUBLISH
BEGIN:VEVENT
DTSTAMP:20251018T220522Z
LAST-MODIFIED:20251018T220522Z
CREATED:20251018T220442Z
SEQUENCE:52566
ORGANIZER:Unknown
DTSTART:20251101T210000Z
DTEND:20251101T210000Z
UID:event_52566@rave.ca
SUMMARY:Pandemonium
LOCATION:Unknown
URL:https://www.rave.ca/event/52566/
DESCRIPTION:https://billetterie.lespacemaker.com/event/1/pandemonium-vi
CLASS:PUBLIC
CATEGORIES:
STATUS:CONFIRMED
PARTSTAT:ACCEPTED
END:VEVENT
END:VCALENDAR
