BEGIN:VCALENDAR
PRODID:RAVE.CA V17.0
X-WR-CALNAME:Nights Of Worship Presents All Night With Schwefelgelb--Detroit In Effect--Pulsu
X-ORIGINAL-URL:https://www.rave.ca/event/52564/
VERSION:2.0
CALSCALE:GREGORIAN
METHOD:PUBLISH
BEGIN:VEVENT
DTSTAMP:20251129T184624Z
LAST-MODIFIED:20251129T184624Z
CREATED:20251017T185753Z
SEQUENCE:52564
ORGANIZER:Unknown
DTSTART:20251128T220000Z
DTEND:20251129T030000Z
UID:event_52564@rave.ca
SUMMARY:Nights Of Worship Presents All Night With Schwefelgelb--Detroit In Effect--Pulsu
LOCATION:Circus\, Afterhours
URL:https://www.rave.ca/event/52564/
DESCRIPTION:Nights of Worship presents Schwefelgelb (Berlin) playing Live along with\, Pulsum (Montréal)\, CPR Annie (Montréal) and Detroit in Effect (Detroit) on November 28 2025 for our last big fundraiser of the year.\n\nWe’re excited to announce we’re hosting our event as an all night rave at Sainte-Catherine’s Hall in the Village\, instead of our usual home at the Red Roof Church. \n\nWith Pomelo on sound and Fantasy on lights and the great infrastructure of the hall\, we’re going to make it our most immersive and exciting environment yet! \n\nIMPORTANT: This event will have strobe lighting. \nSTART: 10PM\n18+\n\nSCHWEFELGELB - Berlin\nInitially intertwining industrial and Techno elements in 2016\, their successive releases incorporated a raw and analogue aesthetic. Their music is intrinsically functional\, designed to provoke movement\, with lyrics serving as atmospheric embellishments\nrather than conduits for explicit messages. Schwefelgelb’s live performances are nothing short of a spectacle.\n\nDETROIT IN EFFECT\nDj Maaco started as a drummer at age 6 playing for a small church\, by age 12 he dropped the sticks and got himself a cardboard and started break dancing! AT age 16 Kool Keith(Tucker) showed him an 808\, Juno 106\, and some other stuff. Keith then pulled out shoeboxes of cassette tapes to let him hear stuff he had been working on. DJ Maaco afterwards bought himself a keyboard and started making music. His first release was in 1992\, with a group called “One Nation” and he later hooked up with DJ PDOG and together they formed M.A.P. Records. With a long history of musical appreciation and creation with influences springing from Gospel through Hip Hop to Techno and Miami Bass\, Detroit In Effect bring it like so few can. Irresistible music with enough dirt to satisfy the sleaziest party animal or clarity of tone to inspire the most informed minds.\n\nPULSUM - Montreal \nWith a sound self-described as “Industrial-Ethereal”\, PULSUM’s music is electric\, emotionally charged and visceral. Spanning the spheres of ambient\, electro\, industrial\, and trip-hop\, the Montreal-based artist engages with sonic styles to create a narrative of dissociative indulgence.\n\nCPR ANNIE - Montreal  \nCPR Annie is dedicated to giving the dancefloor the kiss of life it deserves. Unbound by specific genres and eras\, she curates mixes that are free of formulaic thinking. On describing her sound\, CPR Annie prefers to let the Machines talk and asserts that she has nothing more to say through the art of the Written Word.\n\nThis project is made possible thanks to FAEDCN by STUDIO ZX\, with the support of the City of Montreal. And also to our first sponsor Pabst Canada. \n\nAll proceeds support local food security initiatives\, every ticket helps make a difference. Join us for an unforgettable night of music and community.\n\nTHIS IS A FOOD BANK FUNDRAISER SO EXTRA DONATIONS ARE APPRECIATED.\n\nWe have a zero tolerance policy against harassment\, transphobia\, racism\, homophobia\, sexism and any kind of violence.\n\nWe recognize that the land on which this event will take place is part of the unceded traditional territory of the Kanien'keha:ka\, which has served\, is serving and will continue to serve as a place of gathering and exchange between nations.
CLASS:PUBLIC
CATEGORIES:
STATUS:CONFIRMED
PARTSTAT:ACCEPTED
END:VEVENT
END:VCALENDAR
