BEGIN:VCALENDAR
PRODID:RAVE.CA V17.0
X-WR-CALNAME:Bridges To Dub At La Récré
X-ORIGINAL-URL:https://www.rave.ca/event/52560/
VERSION:2.0
CALSCALE:GREGORIAN
METHOD:PUBLISH
BEGIN:VEVENT
DTSTAMP:20251111T152620Z
LAST-MODIFIED:20251111T152620Z
CREATED:20251017T185723Z
SEQUENCE:52560
ORGANIZER:Unknown
DTSTART:20251023T190000Z
DTEND:20251024T030000Z
UID:event_52560@rave.ca
SUMMARY:Bridges To Dub At La Récré
LOCATION:La Récré (Le BLoK)
URL:https://www.rave.ca/event/52560/
DESCRIPTION:Thursday October 23rd 2025\, Bridges to Dub is taking over La Récré (Le Blok) ! Selection by Icky Magdala & special guest J.E.BUNNS! \n\nJ.E.BUNNS -> “Lover of Roots and Rub-A-Dub to help medicate the mind body and soul. “\n\nThis one is free\, no cover at the door! All you need is your good vibe and skanking shoes! \n\n—\n\n• Thursday October 23rd 2025\n• 5860 av. De Lorimier Montreal\, QC\n• 7pm-Late\n• Free / No cover\n• 18+ (bar)
CLASS:PUBLIC
CATEGORIES:
STATUS:CONFIRMED
PARTSTAT:ACCEPTED
END:VEVENT
END:VCALENDAR
