BEGIN:VCALENDAR
PRODID:RAVE.CA V17.0
X-WR-CALNAME:CAVE OF BATS AT THE CHURCH
X-ORIGINAL-URL:https://www.rave.ca/event/52525/
VERSION:2.0
CALSCALE:GREGORIAN
METHOD:PUBLISH
BEGIN:VEVENT
DTSTAMP:20251018T230035Z
LAST-MODIFIED:20251018T230035Z
CREATED:20251012T231714Z
SEQUENCE:52525
ORGANIZER:Unknown
DTSTART:20251024T220000Z
DTEND:20251025T030000Z
UID:event_52525@rave.ca
SUMMARY:CAVE OF BATS AT THE CHURCH
LOCATION:The Church of St. John the Evangelist (Red Roof Church)
URL:https://www.rave.ca/event/52525/
DESCRIPTION:CAVE OF BATS DANCE PARTY\n\nAs we are SO close to Halloween\, costumes are very welcome but not mandatory!\n\nLimited tix: https://buytickets.at/12xuproductions/1891652\nhttps://buytickets.at/12xuproductions/1891652\n\nWe will save 40 tickets for the door\, but come early as we sadly had to turn\nmany people away that didn't buy advance tickets!\n\nA night of getting together for drinks\, dancing and socialising with people who\nlove dark and alternative music at The Church in Montréal\n\n137 Avenue du Président-Kennedy\, Montréal\, QC H2X 3P6\nChurch Basement\n10pm-3am\n\nOne of the newest DARK nights in Montréal featuring 1980s to NOW music\, with a\nheavy focus on new\, modern music! We will be playing a good amount of French\nlanguage songs + Canadian songs\, especially at the beginning of the night\n\nGOTH\nPOST PUNK\nALTERNATIVE\nANGSTY\nINTERNATIONAL\nEBM\nINDUSTRIAL\nDARK + COLD WAVE\nMINIMAL WAVE\nCULT 80S HITS\nDARK SYNTH POP\nOBSCURE MUSIC\n\nFriday\, Sept 26th\nThe Church of St. John the Evangelist\n\nDJ Dimitri (The Dark Eighties) and more!\n\nDress up! The wilder and more excitingly you dress up\, the better!\n\n19+\n\nSOURCE: https://montreal.askapunk.net/event/cave-of-bats-at-the-church/
CLASS:PUBLIC
CATEGORIES:
STATUS:CONFIRMED
PARTSTAT:ACCEPTED
END:VEVENT
END:VCALENDAR
