BEGIN:VCALENDAR
PRODID:RAVE.CA V17.0
X-WR-CALNAME:Laflèche, Maus
X-ORIGINAL-URL:https://www.rave.ca/event/5156/
VERSION:2.0
CALSCALE:GREGORIAN
METHOD:PUBLISH
BEGIN:VEVENT
DTSTAMP:20041204T000000Z
LAST-MODIFIED:20041204T000000Z
CREATED:20041204T000000Z
SEQUENCE:5156
ORGANIZER:Unknown
DTSTART:20041211T000000Z
DTEND:20041211T000000Z
UID:event_5156@rave.ca
SUMMARY:Laflèche\, Maus
LOCATION:Aria\, Afterhours
URL:https://www.rave.ca/event/5156/
DESCRIPTION:
CLASS:PUBLIC
CATEGORIES:
STATUS:CONFIRMED
PARTSTAT:ACCEPTED
END:VEVENT
END:VCALENDAR
