BEGIN:VCALENDAR
PRODID:RAVE.CA V17.0
X-WR-CALNAME:Montreal ComicCon Afterparty
X-ORIGINAL-URL:https://www.rave.ca/event/51500/
VERSION:2.0
CALSCALE:GREGORIAN
METHOD:PUBLISH
BEGIN:VEVENT
DTSTAMP:20250705T084428Z
LAST-MODIFIED:20250705T084428Z
CREATED:20250526T205954Z
SEQUENCE:51500
ORGANIZER:Pink Popo
DTSTART:20250704T210000Z
DTEND:20250706T060000Z
UID:event_51500@rave.ca
SUMMARY:Montreal ComicCon Afterparty
LOCATION:Sainte-Catherine Hall
URL:https://www.rave.ca/event/51500/
DESCRIPTION:Come have fun after your visit to ComicCon at NPC Montreal! Gaming Lounge\, Photo Room\, Themed Bar\, Geek Rave and more!\n\nCeci est un événement réservé aux 18 ans et plus\nNPC Montréal organise sa toute première afterparty officielle de la ComicCon au Sainte Catherine Hall\, le plus grand club de Montréal !\n\nVenez nous voir du 4 au 6 juillet pour :\n\n    Jouer à une énorme variété de jeux dans notre gaming lounge super confo !\n    Rencontrer d’autres participants de la ComicCon dans un espace convivial\n    Faire des photos dans notre salle 100 % dédiée à la photographie cosplay\n    Goûter nos cocktails thématiques\n    Faire la fête jusqu’au bout de la nuit avec notre line-up de DJs dans la salle principale du Sainte Catherine Hall\, incluant un immense mur LED !\n\nL’entrée est complètement gratuite\, sauf pour nos raves afterhours\, qui ne coûtent que 40 $ pour deux nuits complètes de raves geek !\n\nOrganisé par une équipe d'experience qui connaît parfaitement ce vaste site\, à deux minutes de marche de Berri-UQAM.\nAutrement dit\, à seulement deux stations de métro + 2 minutes à pied de la convention !\n\nRéservez vos billets gratuits dès maintenant !
CLASS:PUBLIC
CATEGORIES:
STATUS:CONFIRMED
PARTSTAT:ACCEPTED
END:VEVENT
END:VCALENDAR
