BEGIN:VCALENDAR
PRODID:RAVE.CA V17.0
X-WR-CALNAME:PSYCRISIS V - CandyLand
X-ORIGINAL-URL:https://www.rave.ca/event/51390/
VERSION:2.0
CALSCALE:GREGORIAN
METHOD:PUBLISH
BEGIN:VEVENT
DTSTAMP:20250501T174902Z
LAST-MODIFIED:20250501T174902Z
CREATED:20250501T174810Z
SEQUENCE:51390
ORGANIZER:Unknown
DTSTART:20250503T210000Z
DTEND:20250503T210000Z
UID:event_51390@rave.ca
SUMMARY:PSYCRISIS V - CandyLand
LOCATION:Unknown
URL:https://www.rave.ca/event/51390/
DESCRIPTION:PHASE 1: 35$ ❗(SOLD OUT)❗\nPHASE 2: 40$ ❗(SOLD OUT)❗\nPHASE 3: 50$ ❗(SOLD OUT)❗\nPHASE 4: 60$ ⚠️(LIMITED)⚠️\nDoor/Porte: more $/plus $ [if available/si disponible]\n❗❗LIMITED CAPACITY❗❗\n⚠️//All ticket sales are final//⚠️\n🎟️Tickets🎟️\nhttps://app.promotix.com/.../PSYCRISIS-V--CandyLand...\n\nWe are Ecstatic and thrilled to announce to you the Fifth edition of the PSYCRISIS series 🌟\nWizard Tribe Presents:\nPSYCRISIS V: CandyLand 🍭\nBass room curation by: Musik Me Luv 🎶\n*ੈ✩‧₊˚༺☆༻*ੈ✩‧₊˚\nCome join us in a world where the air is sweet\, the lights are vibrant\, and the beat pulses like a sugar rush through your veins. We invite you to embark with us on a mesmerizing journey through a magical dreamscape of candy-coated wonders\, designed by some of the most talented and dedicated immersive deco artists in the Montreal scene. Lose yourself in the neon glow of swirling lollipops\, glittering sugar clouds\, and enchanted landscapes filled with edible delights. Let the music of our prominent and talented DJs guide you through a realm where fantasy and rhythm collide in a colorful explosion of sound\, taste\, and light. As the beats drop and the crowd dances\, feel the sweetness of every moment as you are transported to a place where the joy is limitless and the party never ends. The candy is endless\, the energy electric\, and the experience is pure magic. Welcome to the sweetest of nights. Welcome to PSYCRISIS V: CandyLand. ✨\n\nThree rooms of magical wonder and 600 person capacity ❕❕\n\n\n*ੈ✩‧₊˚༺☆༻*ੈ✩‧₊˚\nNous sommes ravis et enthousiasmés de vous annoncer la cinquième édition de la série PSYCRISIS 🌟\nWizard Tribe en collaboration avec Musik Me Luv présente:\nPSYCRISIS V: CandyLand 🍭\nVenez nous rejoindre dans un monde où l’air est doux\, les lumières vibrantes\, et le rythme pulse comme une ruée de sucre dans vos veines. Nous vous invitons à embarquer avec nous pour un voyage envoûtant à travers un paysage onirique magique\, peuplé de merveilles sucrées\, conçu par certains des artistes de décoration immersive les plus talentueux et dédiés de la scène montréalaise. Perdez-vous dans l'éclat néon des sucettes tourbillonnantes\, des nuages de sucre scintillants et des paysages enchantés remplis de délices comestibles. Laissez la musique de nos DJs talentueux et renommés vous guider à travers un royaume où la fantaisie et le rythme se heurtent dans une explosion colorée de sons\, de saveurs et de lumières. Alors que les beats dégringolent et que la foule danse\, ressentez la douceur de chaque instant en étant transporté dans un endroit où la joie est illimitée et la fête ne s’arrête jamais. Les bonbons sont infinis\, l’énergie est électrique\, et l’expérience est une pure magie. Bienvenue dans la nuit la plus sucrée. Bienvenue à PSYCRISIS V : CandyLand ✨\n\nTrois salles de merveilles magiques et une capacité de 600 personnes ❕❕\n\n\n🍭🌌PSYTRANCE STAGE🌌🍭\n\n[9:00 PM] 🧙‍♂️<<ELLIE GALLY>>🧙‍♂️\n\n[10:00 PM] 🧙‍♂️<<BAGHDADDY>>🧙‍♂️\nhttps://soundcloud.com/baghdaddy-dj\n\n[11:00 PM] 🧙‍♀️<<ENAKIM vs MUKUNDA>>🧙‍♂️\nhttps://soundcloud.com/enakim\nhttps://soundcloud.com/mukunda_official\n\n[12:30 AM] 🧙‍♂️<<DINOZOR vs CRYPTEK>>🧙‍♂️\nhttps://soundcloud.com/dinozor_psytrance\nhttps://soundcloud.com/djcryptek\n\n[2:00 AM] 🧙‍♂️<<NARKO>>🧙‍♂️\nhttps://soundcloud.com/narko07\n\n[3:00 AM] 🧙‍♂️<<NAILIK>>🧙‍♂️\nhttp://soundcloud.com/Dj-nailik\n\n[4:00 AM] 👽<<ALIEN PILOT>>👽\nhttps://soundcloud.com/alienpilotmusic\n\n[5:30 AM] 🧙‍♂️<<VIRTUAL LIGHT>>🧙‍♂️\nhttps://soundcloud.com/virtual-light\n\n[6:30 AM] 🧙‍♀️<<ODONATA vs GazÉlektrik >>🧙‍♀️\nhttps://soundcloud.com/odonata-elysium\nhttps://soundcloud.com/gazelektrik\n\n[8:00 AM] 🧙‍♂️<<KRønøFRøST>>🧙‍♂️\nhttps://m.soundcloud.com/kronofrost\n\n\n\n\n\n🍭🥁BASS STAGE🥁🍭\n\n[9:00 PM] 🦹‍♀️<<CYNFUL>>🦹‍♀️\nhttps://soundcloud.com/cynthia-flores-760466372\n\n[10:30 PM] 🦹‍♂️<<NAD>>🦹‍♂️\nhttps://soundcloud.com/nadmml\n\n[11:30 PM] 🦹‍♂️<<MELEK>>🦹‍♂️\nhttps://soundcloud.com/melek-mml\n\n[12: 30 AM] 🦹‍♀️<<MAUDE.ELLE>>🦹‍♀️\nhttps://soundcloud.com/maudeelle\n\n[1:30 AM] 🦹‍♂️<<KENTSUJI>>🦹‍♂️\nhttps://soundcloud.com/kentsuji\n\n[2:30 AM] 🦹‍♀️<<KIVIV>>🦹‍♀️\nhttps://soundcloud.com/kivivmtl\n\n[3:30 AM]🦹‍♂️<<DICK LEE>>🦹‍♂️\nhttps://soundcloud.com/mmldicklee\n\n[4:30 AM]🦹‍♀️<<FLOWHER>>🦹‍♀️\nhttps://soundcloud.com/s0ph-3\n\n\n📜RULES📜\n-Respect the venue\n-Respect and love others\n-Respect and love yourself\n-Peace\, Love\, Unity\, Respect\n\n\n-PERFORMERS-\n🎭👹Performance Art👹🎭\n🟩<<UV Twins>>🟩\nhttps://www.facebook.com/uvtwinz\n\n🎪🤡Psychedelic Jugglers🤡🎪\n🤹‍♀️<<MICHELLE & FRED>>🤹‍♀️\nhttps://www.facebook.com/michelle.chamandy\n\n🤸🏼‍♀️💈Pole Dancing💈🤸🏼‍♀️\n💎<<Francisca Fern>>💎\nhttps://www.facebook.com/philodendronbabe\n\n\n\n-DECO TEAMS -\n🌠<<Wellow( Véro Gagnon)>>🌠\nhttps://www.facebook.com/profile.php?id=668063143\n🌠<<Charles St-Onge>>🌠\nhttps://www.facebook.com/charles.stonge.75\n💥🔫Lasers & Lights Show💥🔫\n⚡<<Mathieu Tremblay>>⚡\nhttps://www.facebook.com/forgetproductions\n\n🍭🔮CHILL ROOM🔮🍭\n🦖<<Brent Trottier>>🦖\n🦖<<Sebastien Leclerc>>🦖\nhttps://www.facebook.com/dynozorproductions\n\n\n\n-BOOTHS & KIOSKS-\n🧶🎨UV body paint and psychedelic creations🎨🧶\n👩🏼‍🎨<<Charlotte Florent>>👩🏼‍🎨\nhttps://www.instagram.com/charlouflorent/\n\n🖋️🎨Tattoo Booth🎨🖋️\n👩‍🎨<<Sarah Pi Ché>>👩‍🎨\nhttps://www.facebook.com/sanslanommer\n\n☯Massotherapy and Spiritual healing☯\n🧘‍♂️<<Ze've Evgeni>>🧘‍♂️\nhttps://www.facebook.com/mindexplorer\n\n📷Photography📷\n\n❗More Artists\, Performers and Deco to be announced❗
CLASS:PUBLIC
CATEGORIES:
STATUS:CONFIRMED
PARTSTAT:ACCEPTED
END:VEVENT
END:VCALENDAR
