BEGIN:VCALENDAR
PRODID:RAVE.CA V17.0
X-WR-CALNAME:Xxs Easter
X-ORIGINAL-URL:https://www.rave.ca/event/51182/
VERSION:2.0
CALSCALE:GREGORIAN
METHOD:PUBLISH
BEGIN:VEVENT
DTSTAMP:20250423T150245Z
LAST-MODIFIED:20250423T150245Z
CREATED:20250407T172735Z
SEQUENCE:51182
ORGANIZER:Unknown
DTSTART:20250420T220000Z
DTEND:20250421T000000Z
UID:event_51182@rave.ca
SUMMARY:Xxs Easter
LOCATION:L'Éloi
URL:https://www.rave.ca/event/51182/
DESCRIPTION:doors at 10pm\; all night long. \n\n\nwww xxxxxxxxxxx org
CLASS:PUBLIC
CATEGORIES:
STATUS:CONFIRMED
PARTSTAT:ACCEPTED
END:VEVENT
END:VCALENDAR
