BEGIN:VCALENDAR
PRODID:RAVE.CA V17.0
X-WR-CALNAME:HOUSE NATION MONTREAL - 24 HOUR MARATHON
X-ORIGINAL-URL:https://www.rave.ca/event/51179/
VERSION:2.0
CALSCALE:GREGORIAN
METHOD:PUBLISH
BEGIN:VEVENT
DTSTAMP:20250407T172700Z
LAST-MODIFIED:20250407T172700Z
CREATED:20250407T172655Z
SEQUENCE:51179
ORGANIZER:Unknown
DTSTART:20250420T180000Z
DTEND:20250421T180000Z
UID:event_51179@rave.ca
SUMMARY:HOUSE NATION MONTREAL - 24 HOUR MARATHON
LOCATION:Entrepôts Dominion
URL:https://www.rave.ca/event/51179/
DESCRIPTION:24 heures de pure musique qui vous transporterons dans une immersion musicale et visuelle\, qui vous permettront de terminer votre long weekend dans le GROOVE.\n\nExpérience sonore et visuelle par HNM & Garceau.\n\n*** \n18h00-19h30	Artmoon\n19h30-21h00	Elle J\n21h00-23h00 Coach\n23h00-01h00 Charles HAZ \n01h00-03h00 Enigmat\n03h00-05h00 Vicky Devika\n05h00-07h00 Curso\n07h00-09h00 Michel Simard\n09h00-11h00 Chris De La Costa\n11h00-13h00	Jino K\n13h00-15h00	Regor\n15h00-18h00	Un Zoo Le Jour
CLASS:PUBLIC
CATEGORIES:
STATUS:CONFIRMED
PARTSTAT:ACCEPTED
END:VEVENT
END:VCALENDAR
