BEGIN:VCALENDAR
PRODID:RAVE.CA V17.0
X-WR-CALNAME:Noreiner - WAREHOUSE PROJECT
X-ORIGINAL-URL:https://www.rave.ca/event/51172/
VERSION:2.0
CALSCALE:GREGORIAN
METHOD:PUBLISH
BEGIN:VEVENT
DTSTAMP:20250407T172541Z
LAST-MODIFIED:20250407T172541Z
CREATED:20250407T172535Z
SEQUENCE:51172
ORGANIZER:Unknown
DTSTART:20250425T220000Z
DTEND:20250426T070000Z
UID:event_51172@rave.ca
SUMMARY:Noreiner - WAREHOUSE PROJECT
LOCATION:Entrepôts Dominion
URL:https://www.rave.ca/event/51172/
DESCRIPTION:Noreiner presents: WAREHOUSE PROJECT\n\nFriday\, April 25: the elements recombine.\n\nAn unstable reaction is forming…\n\nFor the first time ever\, green and blue will fuse into a single protocol. A high-voltage night curated by Noreiner\, in collaboration with Sans Façon\, Phosphate Records\, and Room.\n\nA return to our rawest form. To the original rave state. Undiluted. Uncompromising.\n\n\nLINE UP\n\n\nGREEN ROOM\n\n- Johannes Schuster (Unreal)\n\n- Aisha (Teletech/Taapion)\n\n- Ueberrest (44 Label Group)\n\n- Katamina B2B Xaviera\n\n\nBLUE ROOM\n\nF2F ALL NIGHT LONG\n\n- Mistingo\n\n- Ponsif\n\n- Berti\n\n- Haze\n\n- Pié\n\n- Wolko\n\n\n    10PM - 7AM\n    No BYOB - Full bar on site\n    Credit - Debit - Cash\n    18+\n\nThanks to our sponsors: Tsar print shop / Symmetry / Pabst\n\nZero tolerance for any form of discrimination\, aggressiveness\, harassment\, or vandalism.
CLASS:PUBLIC
CATEGORIES:
STATUS:CONFIRMED
PARTSTAT:ACCEPTED
END:VEVENT
END:VCALENDAR
