BEGIN:VCALENDAR
PRODID:RAVE.CA V17.0
X-WR-CALNAME:ALICE IN RAVERLAND
X-ORIGINAL-URL:https://www.rave.ca/event/51148/
VERSION:2.0
CALSCALE:GREGORIAN
METHOD:PUBLISH
BEGIN:VEVENT
DTSTAMP:20250402T143505Z
LAST-MODIFIED:20250402T143505Z
CREATED:20250402T143419Z
SEQUENCE:51148
ORGANIZER:Unknown
DTSTART:20250419T220000Z
DTEND:20250421T040000Z
UID:event_51148@rave.ca
SUMMARY:ALICE IN RAVERLAND
LOCATION:Esc
URL:https://www.rave.ca/event/51148/
DESCRIPTION:ALICE IN RAVERLAND\n“We’re all mad here…”\n\nSaturday\, April 19th – 10PM\nto Monday\, April 21st – 4AM\nESC – 2023 Boulevard Saint-Laurent\, Montréal\n---\nDown the Rabbit-hole...\nA 30-hour psychedelic journey through a dreamlike rave inspired by Alice in Wonderland —\npresented by Nightshift & ESC.\nLose yourself between dimensions.\nFrom hard psy\, techno\, to psycore\, into deep psytrance...\nyou’ll dance through a Raverland where nothing is what it seems\, and nonsense take control\n---\nWhat awaits you?\nA Mad Tea Party\nMagical ice cream\nJewellery & make-up\nPsychedelic mini-golf\nChill & massage zones\nClothing booths\nCaptured by no.pixl\n+ riddles\, secrets & quests...\n And more hidden wonders.\n---\nIt’s also 420 on Sunday — so expect an extra layer of dreamy\, floaty\, smoky madness.\n---\n15+DJs – immersive decor – games – crazy visuals\nA single\, continuous\, uninterrupted rave.\n30 hours non-stop\nDon’t be late… Time is already melting.\n\n------- ------- ------- ------- ------- ------- -------\n\nALICE IN RAVERLAND\n“We're all mad here…”\nSamedi 19 avril – 22h\njusqu’au lundi 21 avril – 4h\nESC – 2023 boulevard Saint-Laurent\, Montréal\n---\nPlonge dans le terrier du lapin...\nUn voyage psychédélique de 30 heures dans un rêve éveillé inspiré d’Alice au pays des merveilles\,\nprésenté par Nightshift et ESC.\nPerds-toi entre les dimensions.\nDe la hard psy\, à la techno\, en passant par la psycore et la psytrance profonde…\nTu traverseras un monde où rien n’est ce qu’il paraît\, et le non-sens prend le contrôle.\n---\nCe qui t’attend :\nCoins tea party déjantés\nGlaces magiques\nBijoux & maquillage\nMini-golf psychédélique\nZones chill & massages\nStand de vêtements\nCapturé par no.pixl\n+ énigmes\, secrets & quêtes...\nEt bien d’autres merveilles cachées.\n---\nDimanche\, c’est aussi le 420 – une dimension en plus\, vaporeuse\, flottante et délirante.\n---\n15+DJs – décors immersifs – jeux – visuels fous\nUne seule et même rave\, continue\, sans interruption.\n30 heures non-stop\nNe sois pas en retard… Le temps est déjà en train de couler.
CLASS:PUBLIC
CATEGORIES:
STATUS:CONFIRMED
PARTSTAT:ACCEPTED
END:VEVENT
END:VCALENDAR
