BEGIN:VCALENDAR
PRODID:RAVE.CA V17.0
X-WR-CALNAME:Down2Techno (Every Wednesday) ***Free For RA Followers***
X-ORIGINAL-URL:https://www.rave.ca/event/51100/
VERSION:2.0
CALSCALE:GREGORIAN
METHOD:PUBLISH
BEGIN:VEVENT
DTSTAMP:20250418T042426Z
LAST-MODIFIED:20250418T042426Z
CREATED:20250326T221140Z
SEQUENCE:51100
ORGANIZER:Unknown
DTSTART:20250416T220000Z
DTEND:20250417T030000Z
UID:event_51100@rave.ca
SUMMARY:Down2Techno (Every Wednesday) ***Free For RA Followers***
LOCATION:Le Red Room
URL:https://www.rave.ca/event/51100/
DESCRIPTION:Down2Techno (Every Wednesday @ Le Red Room) 10PM - 3AM 8$ Online | 10$ ATD\n\n***April promotion : Follow Leredroom on resident advisor and get free entry for D2T when you show it at the door with your username***\n\n***Promotion du mois d'avril : Suivez Leredroom sur resident advisor et obtenez l'entrée gratuite à D2T en le montrant à l'entrée avec votre nom d'utilisateur***
CLASS:PUBLIC
CATEGORIES:
STATUS:CONFIRMED
PARTSTAT:ACCEPTED
END:VEVENT
END:VCALENDAR
