BEGIN:VCALENDAR
PRODID:RAVE.CA V17.0
X-WR-CALNAME:Mini Acid Dreams
X-ORIGINAL-URL:https://www.rave.ca/event/50687/
VERSION:2.0
CALSCALE:GREGORIAN
METHOD:PUBLISH
BEGIN:VEVENT
DTSTAMP:20250123T182421Z
LAST-MODIFIED:20250123T182421Z
CREATED:20250123T182200Z
SEQUENCE:50687
ORGANIZER:Unknown
DTSTART:20250109T220000Z
DTEND:20250109T220000Z
UID:event_50687@rave.ca
SUMMARY:Mini Acid Dreams
LOCATION:Sans Soleil
URL:https://www.rave.ca/event/50687/
DESCRIPTION:
CLASS:PUBLIC
CATEGORIES:
STATUS:CONFIRMED
PARTSTAT:ACCEPTED
END:VEVENT
END:VCALENDAR
