BEGIN:VCALENDAR
PRODID:RAVE.CA V17.0
X-WR-CALNAME:Gathering 9
X-ORIGINAL-URL:https://www.rave.ca/event/5054/
VERSION:2.0
CALSCALE:GREGORIAN
METHOD:PUBLISH
BEGIN:VEVENT
DTSTAMP:20041121T000000Z
LAST-MODIFIED:20041121T000000Z
CREATED:20041121T000000Z
SEQUENCE:5054
ORGANIZER:Unknown
DTSTART:20041210T000000Z
DTEND:20041210T000000Z
UID:event_5054@rave.ca
SUMMARY:Gathering 9
LOCATION:Unknown
URL:https://www.rave.ca/event/5054/
DESCRIPTION:9è édition des soirées Gathering \n\nBACK TO VERSUS \n\n2h-4h Blast-a-move \n\net question de nous rappeler de bons souvenirs du dernier Versus: \n\nSpecial extended trance tagteam \n4h-9h Voiz vs Wizz \n
CLASS:PUBLIC
CATEGORIES:
STATUS:CONFIRMED
PARTSTAT:ACCEPTED
END:VEVENT
END:VCALENDAR
