BEGIN:VCALENDAR
PRODID:RAVE.CA V17.0
X-WR-CALNAME:Oxygen Présente N Nao
X-ORIGINAL-URL:https://www.rave.ca/event/49358/
VERSION:2.0
CALSCALE:GREGORIAN
METHOD:PUBLISH
BEGIN:VEVENT
DTSTAMP:20240907T032052Z
LAST-MODIFIED:20240907T032052Z
CREATED:20240907T011104Z
SEQUENCE:49358
ORGANIZER:Unknown
DTSTART:20230819T090000Z
DTEND:20230820T030000Z
UID:event_49358@rave.ca
SUMMARY:Oxygen Présente N Nao
LOCATION:Unknown
URL:https://www.rave.ca/event/49358/
DESCRIPTION:Saturday #19aug23 // 17h-22h // mario park // $17-$22 presale https://www.zeffy.com/fr-CA/ticketing/5b736462-90ee-4ec5-b251-31dafc7cba54 #liveperformances
CLASS:PUBLIC
CATEGORIES:
STATUS:CONFIRMED
PARTSTAT:ACCEPTED
END:VEVENT
END:VCALENDAR
