BEGIN:VCALENDAR
PRODID:RAVE.CA V17.0
X-WR-CALNAME:Thursday
X-ORIGINAL-URL:https://www.rave.ca/event/49292/
VERSION:2.0
CALSCALE:GREGORIAN
METHOD:PUBLISH
BEGIN:VEVENT
DTSTAMP:20240907T142123Z
LAST-MODIFIED:20240907T142123Z
CREATED:20240907T002525Z
SEQUENCE:49292
ORGANIZER:Unknown
DTSTART:20230615T090000Z
DTEND:20230616T030000Z
UID:event_49292@rave.ca
SUMMARY:Thursday
LOCATION:WIP
URL:https://www.rave.ca/event/49292/
DESCRIPTION:Thursday #15jun23 // 11pm-3am // WIP
CLASS:PUBLIC
CATEGORIES:
STATUS:CONFIRMED
PARTSTAT:ACCEPTED
END:VEVENT
END:VCALENDAR
