BEGIN:VCALENDAR
PRODID:RAVE.CA V17.0
X-WR-CALNAME:Tonight
X-ORIGINAL-URL:https://www.rave.ca/event/48199/
VERSION:2.0
CALSCALE:GREGORIAN
METHOD:PUBLISH
BEGIN:VEVENT
DTSTAMP:20240905T232844Z
LAST-MODIFIED:20240905T232844Z
CREATED:20240905T232826Z
SEQUENCE:48199
ORGANIZER:Unknown
DTSTART:20211211T090000Z
DTEND:20211212T030000Z
UID:event_48199@rave.ca
SUMMARY:Tonight
LOCATION:Sala Rossa\, La
URL:https://www.rave.ca/event/48199/
DESCRIPTION:tonight 💃💃💃
CLASS:PUBLIC
CATEGORIES:
STATUS:CONFIRMED
PARTSTAT:ACCEPTED
END:VEVENT
END:VCALENDAR
