BEGIN:VCALENDAR
PRODID:RAVE.CA V17.0
X-WR-CALNAME:Music @ The Gazebo
X-ORIGINAL-URL:https://www.rave.ca/event/47989/
VERSION:2.0
CALSCALE:GREGORIAN
METHOD:PUBLISH
BEGIN:VEVENT
DTSTAMP:20240830T033316Z
LAST-MODIFIED:20240830T033316Z
CREATED:20240830T033306Z
SEQUENCE:47989
ORGANIZER:Renegade Legion
DTSTART:20141005T120000Z
DTEND:20141005T120000Z
UID:event_47989@rave.ca
SUMMARY:Music @ The Gazebo
LOCATION:Unknown
URL:https://www.rave.ca/event/47989/
DESCRIPTION:
CLASS:PUBLIC
CATEGORIES:
STATUS:CONFIRMED
PARTSTAT:ACCEPTED
END:VEVENT
END:VCALENDAR
