BEGIN:VCALENDAR
PRODID:RAVE.CA V17.0
X-WR-CALNAME:Mort 6
X-ORIGINAL-URL:https://www.rave.ca/event/47968/
VERSION:2.0
CALSCALE:GREGORIAN
METHOD:PUBLISH
BEGIN:VEVENT
DTSTAMP:20181119T214904Z
LAST-MODIFIED:20181119T214904Z
CREATED:20180511T120218Z
SEQUENCE:47968
ORGANIZER:Unknown
DTSTART:20181026T210000Z
DTEND:20181026T210000Z
UID:event_47968@rave.ca
SUMMARY:Mort 6
LOCATION:Unknown
URL:https://www.rave.ca/event/47968/
DESCRIPTION:
CLASS:PUBLIC
CATEGORIES:
STATUS:CONFIRMED
PARTSTAT:ACCEPTED
END:VEVENT
END:VCALENDAR
