BEGIN:VCALENDAR
PRODID:RAVE.CA V17.0
X-WR-CALNAME:Wish
X-ORIGINAL-URL:https://www.rave.ca/event/47958/
VERSION:2.0
CALSCALE:GREGORIAN
METHOD:PUBLISH
BEGIN:VEVENT
DTSTAMP:20180427T062309Z
LAST-MODIFIED:20180427T062309Z
CREATED:20180228T215631Z
SEQUENCE:47958
ORGANIZER:Heartbeat Events
DTSTART:20180427T210000Z
DTEND:20180428T030000Z
UID:event_47958@rave.ca
SUMMARY:Wish
LOCATION:Crobar
URL:https://www.rave.ca/event/47958/
DESCRIPTION:Venez vous joindre à nous pour cette soirée haute en BPM à saveure uniquement Happy Hardcore et UK Hardcore!\n\nPour cette soirée bien spéciale à Montréal\, nous avons été chercher la crème du style. Venez revivre cette expérience avec un line-up digne d'un party d'il y a 10 ans!\n\n----------------\n\nCome and join us for this party high on BPM with Happy Hardcore and UK Hardcore sounds all night!\n\nFor this sepcial night in Montreal\, we brought you the best of this style. Come and relive this experience with a line-up worthy of 10 years ago!\n\n---------------\n\n21:00 - Zombie Mastah\n22:00 - Deadfunk // Kanibalz\, NightKandi\n23:00 - Smartyz // Heartbeat Events\, Kanibalz\, NightKandi\n00:00 - MAtRiCks\n01:00 - Matduke // Hard & Loud Records\n02:00 - Cyre // Syndroma\, Kanibalz\n\nAu 2e étage\, il y aura une table de marchandise "Ray and Baes Kandi tray" où vous trouverez des masques de kandi faits à la mains et accessoires de rave! N'oubliez pas d'aller y faire une petite visite!\n\nOn the 2nd floor\, will be a "Ray and Baes Kandi tray" merch table where you will find hand made kandi masks and rave accessories! Don't forget to visit them!\n\nhttps://www.facebook.com/rayandbae
CLASS:PUBLIC
CATEGORIES:
STATUS:CONFIRMED
PARTSTAT:ACCEPTED
END:VEVENT
END:VCALENDAR
