BEGIN:VCALENDAR
PRODID:RAVE.CA V17.0
X-WR-CALNAME:Mainframe
X-ORIGINAL-URL:https://www.rave.ca/event/47645/
VERSION:2.0
CALSCALE:GREGORIAN
METHOD:PUBLISH
BEGIN:VEVENT
DTSTAMP:20140320T223442Z
LAST-MODIFIED:20140320T223442Z
CREATED:20140320T223209Z
SEQUENCE:47645
ORGANIZER:Prism Code
DTSTART:20140503T220000Z
DTEND:20140504T080000Z
UID:event_47645@rave.ca
SUMMARY:Mainframe
LOCATION:Unknown
URL:https://www.rave.ca/event/47645/
DESCRIPTION:Calling all Party Freaks\, Technosapiens\, Psychic Travellers\, \nKaleidoscope Junkies\, Drifting Ectoplasmic Beings\, Free Radicals\, \nOpen Minded Individuals and Innocent By-Standers alike. \nYou are being summoned to partake in an awesome journey \nthrough the ripples of time and space\, exploring the \nextra-dimensional essence of your higher being. \n\n▣▣▣ MAINFRAME MAINSTAGE ▣▣▣\n\nJUSTIN CHAOS *3 Hour DJ Set*\nZero1 Music / O.Z.O.R.A Festival (Amsterdam\, Holland)\n\nJustin Chaos is a riddle\, wrapped in a mystery\, inside an enigma. \nHaving spent the last fifteen years on the loose in the global \npsychedelic scene\, not only has he built a formidable reputation \nas a promoter\, connector and facilitator of big projects\, but he \nhas refined and widely shared his skills as an impeccable DJ \nweaving between genres in his eternal search for organised chaos.\n\nhttps://soundcloud.com/justin-chaos\nhttps://www.facebook.com/justinchaoszero1\n\nVIRTUAL LIGHT\nZero1 Music / Prism Code (Montreal)\nhttps://www.facebook.com/pages/Virtual-Light/20486358151\nhttps://soundcloud.com/virtual-light\n\nHEXA 5 \nTime Code / Prism Code (Montreal)\nhttps://soundcloud.com/hexa-5\nhttps://www.facebook.com/djhexa5\n\nZENTRIX \nZenon Records / Digital Garden (Montreal)\nhttps://soundcloud.com/zentrix\nhttps://www.facebook.com/DjZentrix?fref=ts\n\nNAILIK\nGrasshopper Records (Montreal)\nhttps://soundcloud.com/dj-nailik\nhttps://www.facebook.com/pages/Nailik/278320578887262\n\n◉◉◉ TECHNOBOTANICAL GARDEN ◉◉◉\n\nOBSIDIAN **DUB**\nhttps://soundcloud.com/obsidian-4\n\nOKIN **TECHHOUSE**\nhttps://soundcloud.com/dj-okin-plug-play\n\nNOCIDE **ELECTRO BREAK**\nhttps://soundcloud.com/nocide\n\nWAVE PARASITES **TECHNO ELECTRO ACID**\nhttps://soundcloud.com/wave-parasites-1\n\nBLACK CAT vs KID KLEAVER **DNB NEUROFUNK**\nhttps://soundcloud.com/blackcatmtl-1\nhttps://soundcloud.com/kidkleaver\n\nOINJ **DNB JUNGLE**\nhttps://myspace.com/weetamixm\n\nKOZY **DNB MORNING**\nhttps://www.facebook.com/DrasticIndustries\n\nSNOWPHISH vs LOCKOUT **DUB**\nhttps://soundcloud.com/snowphish\nhttps://soundcloud.com/lockout\nhttp://bsxsound.com/\n\nDECO : Neuromantix + New installations \n\nVisuals By : TBA\n\nSOUND BY : \nTBA\n\nTrancefare :\nTickets - 20$ \n30$ @ The Door\n\nTickets are for sale @ Psychonaut\n154 Prince Arthur E\, Montréal\, QC H2X 1B7\n(514) 844-8998\n\n(Not for sale yet)\n\nOut of towners : Private message with name and city you are from. \n\nLOCATION : TBA\n\nThis is an all night event. 10 PM - 8 AM\n\nFacebook Event Page Link:\nhttps://www.facebook.com/events/1439850592918020/\n\nJoin the Montreal Psytrance group TWISTED VISIONS:\nhttps://www.facebook.com/groups/638425682851017/\n\nLike the Prism Code facebook page:\nhttps://www.facebook.com/PrismCode23\n\nCOME TO CONTRIBUTE NOT TO CONSUME
CLASS:PUBLIC
CATEGORIES:
STATUS:CONFIRMED
PARTSTAT:ACCEPTED
END:VEVENT
END:VCALENDAR
