BEGIN:VCALENDAR
PRODID:RAVE.CA V17.0
X-WR-CALNAME:O C D J
X-ORIGINAL-URL:https://www.rave.ca/event/47610/
VERSION:2.0
CALSCALE:GREGORIAN
METHOD:PUBLISH
BEGIN:VEVENT
DTSTAMP:20140123T132925Z
LAST-MODIFIED:20140123T132925Z
CREATED:20140123T131945Z
SEQUENCE:47610
ORGANIZER:Deadna Productions
DTSTART:20140123T220000Z
DTEND:20140124T030000Z
UID:event_47610@rave.ca
SUMMARY:O C D J
LOCATION:Passeport\, Club
URL:https://www.rave.ca/event/47610/
DESCRIPTION:Deadna prod. presents: A very special edition of OCDj Thursdays! We are happy to host Mik Izif's (aka. Acid Wanker) Birthday bash! Get a ear-full of Dark Techno\, Acid Tekno\, and Hardtekno\, with our wicked guests :::\n\n--> MIK IZIF / France\n(Physical Records - Sono Pirate Unit) [Dark Techno & Acid]\n--> Glad Sound vs. Acid Dave (Sono Pirate Unit) [Techno]\n--> RA10 (aka. Bunnies Lambs / Tekno Agricole) [Hardtekno]\n--> resdient Dj: Na (Deadna\, Quebecore) [Techno\, Hardcore]\n\nOnly 4$ at the door! (Coat-check included!)\n@ Bar Passeport\, 2037 St.Denis (Sherbrooke or Berri metro)\n\nSpecials / Spéciaux:\n- Pitcher 10$\n- Pint 5.50$\n- Shots 2/6$\n\nLinks / Liens :\n\nOCDj Group : https://www.facebook.com/groups/107023729332902/\n\nMik Izif: https://soundcloud.com/mik_izif\n\nGlad Sound / Acid Dave:\nhttps://soundcloud.com/glad-sound\nhttps://soundcloud.com/acidav\n\nTekno Agricole: https://www.facebook.com/groups/365938956095/
CLASS:PUBLIC
CATEGORIES:
STATUS:CONFIRMED
PARTSTAT:ACCEPTED
END:VEVENT
END:VCALENDAR
