BEGIN:VCALENDAR
PRODID:RAVE.CA V17.0
X-WR-CALNAME:O C D J
X-ORIGINAL-URL:https://www.rave.ca/event/47601/
VERSION:2.0
CALSCALE:GREGORIAN
METHOD:PUBLISH
BEGIN:VEVENT
DTSTAMP:20140107T180549Z
LAST-MODIFIED:20140107T180549Z
CREATED:20140107T180141Z
SEQUENCE:47601
ORGANIZER:Deadna Productions
DTSTART:20140109T220000Z
DTEND:20140110T030000Z
UID:event_47601@rave.ca
SUMMARY:O C D J
LOCATION:Passeport\, Club
URL:https://www.rave.ca/event/47601/
DESCRIPTION:Deadna prod. presents: The first OCDj of 2014! We're starting the year off in style\, with a barrage of broken hard beats\, including but not limited to Hardcore\, Breaks\, Drum'n'Bass\, Dub\, etc.... For this\, we've got 3 mightily talented DAVEs as guests\, one of whom is kicking off his Birthday celebrations! :::\n\n--> Dialect (B-Day Boy / DDMM) [Breaks\, whatever-he-wants-to-play]\n--> SUBTONE (Citrus\, Cyanide\, Revolution) [Hard D'n'B]\n--> Wally (Monkey Dub\, RISK) [Dub'n'Stuff]\n--> resident Dj: Na (Deadna\, Quebecore) [Hardcore\, Crossbreed\, D'n'B\, etc.]\n--> New Opening-Dj: Voidlash !\n\nOnly 4$ at the door! (Coat-check included!)\n@ Bar Passeport\, 2037 St.Denis (Sherbrooke or Berri metro)\n\nSpecials / Spéciaux:\n- Pitcher 10$\n- Pint 5.50$\n- Shots 2/6$\n\nLinks / Liens :\n\nOCDj Group : https://www.facebook.com/groups/107023729332902/\n\nSubtone: https://soundcloud.com/subtone\n\nDialect: https://soundcloud.com/dave-dialect\nhttps://www.facebook.com/DaveDialectMediaMontreal\n\nWally: https://soundcloud.com/wally\nhttps://soundcloud.com/riskmtl\n\nNa: https://soundcloud.com/deadna
CLASS:PUBLIC
CATEGORIES:
STATUS:CONFIRMED
PARTSTAT:ACCEPTED
END:VEVENT
END:VCALENDAR
