BEGIN:VCALENDAR
PRODID:RAVE.CA V17.0
X-WR-CALNAME:Electrik Zoo
X-ORIGINAL-URL:https://www.rave.ca/event/47598/
VERSION:2.0
CALSCALE:GREGORIAN
METHOD:PUBLISH
BEGIN:VEVENT
DTSTAMP:20140106T225239Z
LAST-MODIFIED:20140106T225239Z
CREATED:20140106T225119Z
SEQUENCE:47598
ORGANIZER:Unknown
DTSTART:20140117T220000Z
DTEND:20140118T030000Z
UID:event_47598@rave.ca
SUMMARY:Electrik Zoo
LOCATION:Passeport\, Club
URL:https://www.rave.ca/event/47598/
DESCRIPTION:Friday\, January 17th / Vendredi le 17 Janvier 2014\n\nEXOTEK nights present :\n// ELECTRIK ZOO //\n\n######################################\n\nDAN STATIK & MARC PICARD\nTechno\n\nDJ ÄnimÄ \n(Oui-R1\, djschoolmontreal.ca)\nTechno Prog\n\n1.618  \n(Oui-R1/Hidra Beats) \nLIVE set - Progressive Tech Psy\n\n######################################\n\nhttps://soundcloud.com/1-618-mtl\nhttps://soundcloud.com/danstatik\nhttps://soundcloud.com/marcpicard\nhttps://www.facebook.com/groups/44765646086/?fref=ts\n\nACCESSIBLE PRICE ON DRINKS :\n\n-Shooters : $2 (Vodka-cranberrie)\, $3 (on many kinds)\n-Local Beer : 5$ or $5.75\n-Drinks : 5.75$ - 7.5$\n-Picher : 15$\n\n***********Bottle Service (26oz)***********\n\n-$90 (Vodka Moskovskaya)\n-$100 (Jack Daniel's)\n-$100 (Bacardi Gold)\n\n***********Bottle Service (40oz)***********\n\n-$135 (Vodka Moskovskaya)\n-$150 (Jack Daniel's)\n-$150 (Rhum Appleton & Bacardi Gold)\n-$165 (Bombay Sapphire)\n\n\n\n\nCover Charge / Entrée : $7\nGuest list before / avant 00:00 : $4\n(vestiaire inclus/coat-check included)\n\n\n\nwww.barpasseport.com\nhttps://www.facebook.com/ExotekNightsFridays
CLASS:PUBLIC
CATEGORIES:
STATUS:CONFIRMED
PARTSTAT:ACCEPTED
END:VEVENT
END:VCALENDAR
