BEGIN:VCALENDAR
PRODID:RAVE.CA V17.0
X-WR-CALNAME:Podcast Party 3
X-ORIGINAL-URL:https://www.rave.ca/event/47597/
VERSION:2.0
CALSCALE:GREGORIAN
METHOD:PUBLISH
BEGIN:VEVENT
DTSTAMP:20140105T181623Z
LAST-MODIFIED:20140105T181623Z
CREATED:20140105T181423Z
SEQUENCE:47597
ORGANIZER:Unknown
DTSTART:20140110T220000Z
DTEND:20140111T030000Z
UID:event_47597@rave.ca
SUMMARY:Podcast Party 3
LOCATION:Passeport\, Club
URL:https://www.rave.ca/event/47597/
DESCRIPTION:Friday\, January 10th / Vendredi le 10 Janvier 2014\n\nEXOTEK nights & MINDS OF SIN PODCAST present :\n// PODCAST PARTY III //\n(Techno)\n\n######################################\n\n10:00 - 12:00 : MIKE CRISTINZIANI\n\n12:00 - 1:30 : JOE MESMAR (Ovum Recordings\, Naked Lunch Records\, Dopamine Music)\n\n1:30 - 3:00 : CHRISTOPHER PAUL & SHAHIN\n\n######################################\n\n\n\nACCESSIBLE PRICE ON DRINKS :\n\n-Shooters : $2 (Vodka-cranberrie)\, $3 (on many kinds)\n-Local Beer : 5$ or $5.75\n-Drinks : 5.75$ - 7.5$\n-Picher : 15$\n\n***********Bottle Service (26oz)***********\n\n-$90 (Vodka Moskovskaya)\n-$100 (Jack Daniel's)\n-$100 (Bacardi Gold)\n\n***********Bottle Service (40oz)***********\n\n-$135 (Vodka Moskovskaya)\n-$150 (Jack Daniel's)\n-$150 (Rhum Appleton & Bacardi Gold)\n-$165 (Bombay Sapphire)\n\n\n\n\nCover Charge / Entrée : $7\nGuest list before / avant 00:00 : $4\n(vestiaire inclus/coat-check included)\n\n\n\nwww.barpasseport.com\nhttps://www.facebook.com/ExotekNightsFridays
CLASS:PUBLIC
CATEGORIES:
STATUS:CONFIRMED
PARTSTAT:ACCEPTED
END:VEVENT
END:VCALENDAR
