BEGIN:VCALENDAR
PRODID:RAVE.CA V17.0
X-WR-CALNAME:Classic S House Night, Djs Jojo Flores, Vyktor Maas, Roxane Roxane
X-ORIGINAL-URL:https://www.rave.ca/event/47596/
VERSION:2.0
CALSCALE:GREGORIAN
METHOD:PUBLISH
BEGIN:VEVENT
DTSTAMP:20140104T170841Z
LAST-MODIFIED:20140104T170841Z
CREATED:20140104T170535Z
SEQUENCE:47596
ORGANIZER:Unknown
DTSTART:20140111T210000Z
DTEND:20140112T030000Z
UID:event_47596@rave.ca
SUMMARY:Classic S House Night\, Djs Jojo Flores\, Vyktor Maas\, Roxane Roxane
LOCATION:Unknown
URL:https://www.rave.ca/event/47596/
DESCRIPTION:PEOPL.CLUBS (UNDERGROUND VENUE) \nCLASSIC S HOUSE NIGHT / JOJO  FLORES / VYKTOR MAAS / ROXANE ROXANE ­
CLASS:PUBLIC
CATEGORIES:
STATUS:CONFIRMED
PARTSTAT:ACCEPTED
END:VEVENT
END:VCALENDAR
