BEGIN:VCALENDAR
PRODID:RAVE.CA V17.0
X-WR-CALNAME:Classic S House, Peopl.Club, Djs Jojo Flores, Stephane Belfort, *vyktor Maas
X-ORIGINAL-URL:https://www.rave.ca/event/47594/
VERSION:2.0
CALSCALE:GREGORIAN
METHOD:PUBLISH
BEGIN:VEVENT
DTSTAMP:20140101T222033Z
LAST-MODIFIED:20140101T222033Z
CREATED:20140101T221907Z
SEQUENCE:47594
ORGANIZER:Unknown
DTSTART:20140125T210000Z
DTEND:20140126T030000Z
UID:event_47594@rave.ca
SUMMARY:Classic S House\, Peopl.Club\, Djs Jojo Flores\, Stephane Belfort\, *vyktor Maas
LOCATION:Unknown
URL:https://www.rave.ca/event/47594/
DESCRIPTION:
CLASS:PUBLIC
CATEGORIES:
STATUS:CONFIRMED
PARTSTAT:ACCEPTED
END:VEVENT
END:VCALENDAR
