BEGIN:VCALENDAR
PRODID:RAVE.CA V17.0
X-WR-CALNAME:Deep House Night, Oasis, Djs Vyktor Maas &amp; Don Barbarino
X-ORIGINAL-URL:https://www.rave.ca/event/47592/
VERSION:2.0
CALSCALE:GREGORIAN
METHOD:PUBLISH
BEGIN:VEVENT
DTSTAMP:20131227T173740Z
LAST-MODIFIED:20131227T173740Z
CREATED:20131227T173640Z
SEQUENCE:47592
ORGANIZER:Unknown
DTSTART:20140108T210000Z
DTEND:20140109T030000Z
UID:event_47592@rave.ca
SUMMARY:Deep House Night\, Oasis\, Djs Vyktor Maas & Don Barbarino
LOCATION:Unknown
URL:https://www.rave.ca/event/47592/
DESCRIPTION:OASIS NIGHT \nSALON DAOME 141 MONT-ROYAL EST
CLASS:PUBLIC
CATEGORIES:
STATUS:CONFIRMED
PARTSTAT:ACCEPTED
END:VEVENT
END:VCALENDAR
