BEGIN:VCALENDAR
PRODID:RAVE.CA V17.0
X-WR-CALNAME:Deep House Night ( Oasis) Djs Vyktor Maas &amp; Don Barbarino
X-ORIGINAL-URL:https://www.rave.ca/event/47591/
VERSION:2.0
CALSCALE:GREGORIAN
METHOD:PUBLISH
BEGIN:VEVENT
DTSTAMP:20140101T221516Z
LAST-MODIFIED:20140101T221516Z
CREATED:20131227T172648Z
SEQUENCE:47591
ORGANIZER:Unknown
DTSTART:20140108T220000Z
DTEND:20140109T030000Z
UID:event_47591@rave.ca
SUMMARY:Deep House Night ( Oasis) Djs Vyktor Maas & Don Barbarino
LOCATION:Unknown
URL:https://www.rave.ca/event/47591/
DESCRIPTION:WED JAN 08/2014 OUR FIEST DEEP HOUSE NIGHT  AFTER NEW YEAR S  SEE YA
CLASS:PUBLIC
CATEGORIES:
STATUS:CONFIRMED
PARTSTAT:ACCEPTED
END:VEVENT
END:VCALENDAR
