BEGIN:VCALENDAR
PRODID:RAVE.CA V17.0
X-WR-CALNAME:Dj Avalanche @ Different Mode
X-ORIGINAL-URL:https://www.rave.ca/event/47589/
VERSION:2.0
CALSCALE:GREGORIAN
METHOD:PUBLISH
BEGIN:VEVENT
DTSTAMP:20131225T072632Z
LAST-MODIFIED:20131225T072632Z
CREATED:20131225T072126Z
SEQUENCE:47589
ORGANIZER:Unknown
DTSTART:20131228T220000Z
DTEND:20131229T030000Z
UID:event_47589@rave.ca
SUMMARY:Dj Avalanche @ Different Mode
LOCATION:Unknown
URL:https://www.rave.ca/event/47589/
DESCRIPTION:// DJ Avalanche // guest at Different Mode on Saturday 28 Dec 2013\nalong with resident DJ Draris\nAt Bar Passseport\, 2037 St-Denis St\, Montreal\, QC\n\nBest of 2013\nSynthpop\, EBM\, NewWave\, Industrial\, Dark-Electro music.\n\nCover: $5\, Free before 11pm\n\nhttps://www.facebook.com/events/447953748659832
CLASS:PUBLIC
CATEGORIES:
STATUS:CONFIRMED
PARTSTAT:ACCEPTED
END:VEVENT
END:VCALENDAR
