BEGIN:VCALENDAR
PRODID:RAVE.CA V17.0
X-WR-CALNAME:Cover Photo Change Event Photo Eventsinvite Friendsedit Going Ne
X-ORIGINAL-URL:https://www.rave.ca/event/47588/
VERSION:2.0
CALSCALE:GREGORIAN
METHOD:PUBLISH
BEGIN:VEVENT
DTSTAMP:20131224T233614Z
LAST-MODIFIED:20131224T233614Z
CREATED:20131224T233520Z
SEQUENCE:47588
ORGANIZER:Unknown
DTSTART:20131231T210000Z
DTEND:20131231T210000Z
UID:event_47588@rave.ca
SUMMARY:Cover Photo Change Event Photo Eventsinvite Friendsedit Going Ne
LOCATION:Unknown
URL:https://www.rave.ca/event/47588/
DESCRIPTION:BIG TOOTH & PMI PROUDLY PRESENT\n\n▄▄▄▄▄▄▄▄▄▄▄▄▄▄▄▄▄▄▄▄▄▄\n\n★★ NEW YEARS EVE 2014!! ★★\n▄▄▄▄▄▄▄▄▄▄▄▄▄▄▄▄▄▄▄▄▄▄\n\nIt's that time again everyone! The holiday season is approaching and that could could mean this marvelous year must come to a dashing end.. In our books that kinda translates to only one thing.. NEW YEAR'S EVE PARTY!!!\n\nSo how do you top last year's EPIC EPTIC FIESTA?! Well the only way we know how\, DOUBLE THE HEADLINERS & DOUBLE THE FUN!! Ladies and gentlemen\, please make some noize for LIQUID STRANGER [SWE] & SPACE LACES [US]!! This year\, when the ball drops\, the room is sure to go BOOOOOM!!\n\nThis aint no sneaker jam kiddos! Dress to impress and get ready for them champein showers cause this is one NYE you'll never forget!!\n\nA 2 ROOM PARTY WITH 2 MEGA HARD HITTING HEADLINERS...\n\n\n★★★★ LIQUID STRANGER ★★★★\nGothenburg\, SWE\nInterchill Records | Rottun Records\n\nTraveling the uncharted terrains of sound\, Liquid Stranger’s creative output spans a wide range of electronic music in all of its colors and shades. Always pushing the sonic boundaries and merging genres\, he consistently creates an ever-evolving blend of unique atmospheres and cutting edge grooves.\n\nThe Liquid Stranger has been working professionally with music since 1996 and has released over 50 titles under various pseudonyms in that time. He used to DJ for Breaks FM in London and has worked with numerous record labels including\; Dragonfly\, Botchit & Scarper\, Six Degrees\, Hope Recordings\, Ministry of Sound\, Spirit Zone\, Muti Music\, Rottun Recordings and Interchill.\n\nPerforming live\, the Stranger has a passion for the unexpected and hits the stage with a stash bag full of devastating dance-floor monsters. Using custom built analogue gear to remix his tunes in real-time\, he delivers an energetic and infectious performance unique to every show. Major gigs to date include such world renowned festivals like\; Electric Daisy Carnival\, Voov Experience\, Boom Festival\, Roskilde\,Samothraki\, Vortex and Club Boom to name a few. At the moment\, he is one of the most sought-after US-based dubstep producers and is in constant demand from coast to coast.\n\nhttps://twitter.com/liquidstranger\nhttp://www.theliquidstranger.com/\nhttps://soundcloud.com/liquid-stranger\nhttps://www.facebook.com/liquidstranger\n\n\n★★★★ SPACE LACES ★★★★\nLouisville\, US\nDestroid Music\n\nBug collector & producer of all things electronic...\n\nhttps://twitter.com/spacelaces\nhttps://soundcloud.com/space-laces\nhttps://www.facebook.com/spacelaces\n\n\nWith local support from:\n\n\n♫ BOTNEK b2b SNAILS\nDim Mak | Kannibalen\nhttps://soundcloud.com/botnek\nhttps://www.facebook.com/botnek\nhttps://soundcloud.com/officialsnails\nhttps://www.facebook.com/OfficialSnails\n\n♫ the W4RRIORS vs REPTILE DISCO\nBig Tooth\nhttp://www.soundcloud.com/w4rriors\nhttp://www.facebook.com/theW4RRIORS\nhttps://soundcloud.com/reptile-disco\nhttps://www.facebook.com/REPTILEDISCO\n\n♫ WOBLZ\nDubplate.fm | Big Tooth\nhttps://dubplate.fm/woblz\nhttps://www.facebook.com/WoblzOfficial\n\n♫ MASTERFADERS\nDnB Lives Here | Artical Clothing | Sub:Stance\nhttps://soundcloud.com/strangefuture\nhttps://www.facebook.com/MasterFaders\n\n♫ GNAVE\nBig Tooth\nhttp://mixlr.com/big-tooth/crowd\nhttps://www.facebook.com/GNAVEmtl\n\n♫ Δ Ξ Ι Θ Ṳ [VOWELS]\nBig Tooth\nhttps://www.facebook.com/pages/Vowels/180837175451419\n\n♫ TRON SEPIA\nSilver Stag Records | Purgatory Music Industries\nhttps://soundcloud.com/tron-sepia\nhttps://www.facebook.com/tronsepia\n\n♫ RUN & GUN\nBig Tooth\nhttps://soundcloud.com/runandgun\nhttps://www.facebook.com/runandgundnb\n\n♫ DRUMHUNTER b2b STILLWATERS\nBig Tooth | MWTB\nhttps://www.facebook.com/drumhunterofficial\nhttps://www.facebook.com/St1llWaters\n\n♫ ADAM KAINE\nDeep House | Tech House\nhttps://soundcloud.com/adamkaine\nhttps://www.facebook.com/AdamKaineOfficial\n\n\n+ MORE TBA VERY SOON\n\n\n══════ TICKETS ═══════\n\nONLINE TICKETS -> http://www.wantickets.com/nye14\n\nEXTRA EARLY BIRD (ONLINE ONLY) - 20$ (sold out)\nEARLY BIRD - 25$\nREGULAR BIRD - 30$\nDOOR - MORE\n\n═════════════════\n\n∆∇.∆∇.∆ PHOTOS & VIDEO\n\nAdrian Villagomez - https://www.facebook.com/adrianphotographie\n\n═════════════════\n♥ LIKE THESE PAGES\n\nBIG TOOTH\nhttps://www.facebook.com/BigToothMtl\n\nPURGATORY MUSIC INDUSTRIES\nhttps://www.facebook.com/PMImtl\n\nVALHALLA SOUND CIRCUS\nhttps://www.facebook.com/ValhallaSoundCircus\n\nBEAT2DEF\nhttps://www.facebook.com/BEAT2DEF\n\n═════════════════
CLASS:PUBLIC
CATEGORIES:
STATUS:CONFIRMED
PARTSTAT:ACCEPTED
END:VEVENT
END:VCALENDAR
