BEGIN:VCALENDAR
PRODID:RAVE.CA V17.0
X-WR-CALNAME:Soulselecta - Gamma&#039;s Birthday Bash
X-ORIGINAL-URL:https://www.rave.ca/event/47586/
VERSION:2.0
CALSCALE:GREGORIAN
METHOD:PUBLISH
BEGIN:VEVENT
DTSTAMP:20131223T014911Z
LAST-MODIFIED:20131223T014911Z
CREATED:20131223T014126Z
SEQUENCE:47586
ORGANIZER:Unknown
DTSTART:20140125T220000Z
DTEND:20140126T020000Z
UID:event_47586@rave.ca
SUMMARY:Soulselecta - Gamma's Birthday Bash
LOCATION:Unknown
URL:https://www.rave.ca/event/47586/
DESCRIPTION:Our first Soulselecta in 2014 will also be gamma's birthday bash. Those of you who've seen how these have gone in the past\, will immediately either want to save the date\, or book your flight tickets to get as far away as possible.\n\nExpect killer sets from your resident DJs Saxon\, Sarcastro and gamma. We're pulling out all the stops!\n\nhttps://www.facebook.com/events/561885880556560/
CLASS:PUBLIC
CATEGORIES:
STATUS:CONFIRMED
PARTSTAT:ACCEPTED
END:VEVENT
END:VCALENDAR
