BEGIN:VCALENDAR
PRODID:RAVE.CA V17.0
X-WR-CALNAME:O C D J - Producer&#039;s Edition
X-ORIGINAL-URL:https://www.rave.ca/event/47585/
VERSION:2.0
CALSCALE:GREGORIAN
METHOD:PUBLISH
BEGIN:VEVENT
DTSTAMP:20131218T152430Z
LAST-MODIFIED:20131218T152430Z
CREATED:20131218T152054Z
SEQUENCE:47585
ORGANIZER:Deadna Productions
DTSTART:20131219T220000Z
DTEND:20131220T030000Z
UID:event_47585@rave.ca
SUMMARY:O C D J - Producer's Edition
LOCATION:Passeport\, Club
URL:https://www.rave.ca/event/47585/
DESCRIPTION:Deadna prod. presents: A very special "Producer's edition" of OCDj Thursdays! A variety of LIVE acts only\, droppin' some Hardcore\, Hardtek\, Breakcore\, Tribe\, Tekno\, Dark Psy\, etc.\, plus me mixing my own tunes in between sets\, with your local heavy electronic artists :::\n\n--> Laf-O (D-Trash\, Tekno Agricole) [Hardcore\, Breakcore]\n--> K.O.Tik (Tekno Agricole) [Tekno\, Tribe]\n--> Cybertribe (HardTimes) [Hardtek/Core\, etc.]\n--> maSingularity [Dark Psy]\n--> NaiLik (Grasshopper) [Psy\, Prog/Full-On]\n--> resident Dj: Na (Deadna\, Quebecore) [Hardcore]\n\nOnly 4$ at the door! (Coat-check included)\n@ Bar Passeport\, 2037 St.Denis (Sherbrooke or Berri metro)\n\nSpecials :\n- Pitcher 10$\n- Pint 5.50$\n- Shots 2/6$\n\nLinks :\n\nOCDj Group : https://www.facebook.com/groups/107023729332902/\n\nLaf-O : https://soundcloud.com/laf-o\n\nK.O.Tik : https://soundcloud.com/k-o-tik\n\nCybertribe : https://soundcloud.com/cybertribe\n\nmaSingularity : https://soundcloud.com/masingularity\n\nNaiLik : https://soundcloud.com/Dj-nailik\n\nNa : https://www.soundcloud.com/deadna
CLASS:PUBLIC
CATEGORIES:
STATUS:CONFIRMED
PARTSTAT:ACCEPTED
END:VEVENT
END:VCALENDAR
