BEGIN:VCALENDAR
PRODID:RAVE.CA V17.0
X-WR-CALNAME:25, 01, 2014 Excess Overdrive@lyon: Radium, The Siquest Squad…
X-ORIGINAL-URL:https://www.rave.ca/event/47584/
VERSION:2.0
CALSCALE:GREGORIAN
METHOD:PUBLISH
BEGIN:VEVENT
DTSTAMP:20131217T054114Z
LAST-MODIFIED:20131217T054114Z
CREATED:20131217T054020Z
SEQUENCE:47584
ORGANIZER:Unknown
DTSTART:20140125T230000Z
DTEND:20140125T230000Z
UID:event_47584@rave.ca
SUMMARY:25\, 01\, 2014 Excess Overdrive@lyon: Radium\, The Siquest Squad…
LOCATION:Unknown
URL:https://www.rave.ca/event/47584/
DESCRIPTION:A l’occasion de la sortie de "Excess Overdrive" le nouvel album de Radium\, membre du mythique groupe Micropoint\, Audiogenic et Mediatone présentent "la soirée Hard Electronic" qui va inonder Lyon de BPM\,  le 25/01.\nCette soirée au Double Mixte\, en collaboration avec Mediatone\, organisateur phare des nuits électroniques lyonnaises\, s'annonce forte en émotions et en vibrations sonores. Les fans auront l’occasion de découvrir le nouveau set de Radium : un concentré de BPM survitaminés et de boucles mélodiques implacables conçues pour le dancefloor.
CLASS:PUBLIC
CATEGORIES:
STATUS:CONFIRMED
PARTSTAT:ACCEPTED
END:VEVENT
END:VCALENDAR
