BEGIN:VCALENDAR
PRODID:RAVE.CA V17.0
X-WR-CALNAME:Saving Trance For Tomorrow: Old School Trance 2014
X-ORIGINAL-URL:https://www.rave.ca/event/47583/
VERSION:2.0
CALSCALE:GREGORIAN
METHOD:PUBLISH
BEGIN:VEVENT
DTSTAMP:20131216T185957Z
LAST-MODIFIED:20131216T185957Z
CREATED:20131216T185128Z
SEQUENCE:47583
ORGANIZER:Unknown
DTSTART:20140117T210000Z
DTEND:20140117T210000Z
UID:event_47583@rave.ca
SUMMARY:Saving Trance For Tomorrow: Old School Trance 2014
LOCATION:Espace des arts
URL:https://www.rave.ca/event/47583/
DESCRIPTION:Team 140 Montreal PRESENT:\n\nSAVING TRANCE FOR TOMORROW: OLD SCHOOL TRANCE 2014 @ Espace des Arts\n\nTickets/billets: http://www.wantickets.com/savingtrance\n\nMIKE MCCARTHY\n\nSEVEN WAYS\n\nROSS\n\nKEVIN BROWN\n\nJON NAYLOR\n\nCHRISTOPHER PAUL
CLASS:PUBLIC
CATEGORIES:
STATUS:CONFIRMED
PARTSTAT:ACCEPTED
END:VEVENT
END:VCALENDAR
