BEGIN:VCALENDAR
PRODID:RAVE.CA V17.0
X-WR-CALNAME:Excess Overdrive@angers: Radium, Lenny Dee…
X-ORIGINAL-URL:https://www.rave.ca/event/47582/
VERSION:2.0
CALSCALE:GREGORIAN
METHOD:PUBLISH
BEGIN:VEVENT
DTSTAMP:20131216T110410Z
LAST-MODIFIED:20131216T110410Z
CREATED:20131216T110120Z
SEQUENCE:47582
ORGANIZER:Unknown
DTSTART:20140201T220000Z
DTEND:20140201T220000Z
UID:event_47582@rave.ca
SUMMARY:Excess Overdrive@angers: Radium\, Lenny Dee…
LOCATION:LE CHABADA
URL:https://www.rave.ca/event/47582/
DESCRIPTION:A l’occasion de la sortie de "Excess Overdrive" le nouvel album de Radium\, membre du mythique groupe Micropoint\, Audiogenic présente "la soirée Hard Electronic" qui va inonder Angers de BPM  le 1er février 2014.\nLes fans auront l’occasion de découvrir le nouveau set de Radium : un concentré de BPM survitaminés et de boucles mélodiques implacables conçues pour le dancefloor.\nPour cette étape de son invasion hexagonale\, Radium compte bien placer la barre très haute avec un seul objectif : faire trembler Angers !   \n 	\n\n01/02/2014 EXCESS OVERDRIVE@Angers w/ Radium\, Lenny Dee…\n\n[img]http://audiogenic.fr/4566dkju54dfg/F7-HC-ExcessOverdrive-ANGER.jpg[/img]\n\nLe 01/02/2014\, à l'occasion de la sortie de l'album de Radium : Excess Overdrive\, AUDIOGENIC et RADIATION présentent la soirée : \n\nEXCESS OVERDRIVE @ LE CHABADA - Angers\n\n>>>>>>>>>>>>>>> 2 ROOMS <<<<<<<<<<<<<<<\n\n► HARD ELECTRONIC MUSIC ► TECHNO/HARDTECHNO/HARDCORE\n\n▬▬▬▬▬▬▬▬▬▬▬▬▬▬▬▬▬▬▬▬\n► AUDIOGENIC ROOM\n▬▬▬▬▬▬▬▬▬▬▬▬▬▬▬▬▬▬▬▬\n\n▷ RADIUM \n▷ LENNY DEE - USA\n▷ HELLFISH - UK\n▷ PSIKO \n▷ GOBUS \n▷ MATARO \n\n▬▬▬▬▬▬▬▬▬▬▬▬▬▬▬▬▬▬▬▬\n► 49 POWER ROOM\n▬▬▬▬▬▬▬▬▬▬▬▬▬▬▬▬▬▬▬▬\n\n▷ SHAMASH \n▷ SMILEVIL \n▷ BENNY BAIN D'ACIDE \n▷ ACHILLE \n▷ NUNIO \n▷ SHOKKER \n\nDECO ● MAPPING ● VISUEL ● STANDS\n\n▬▬▬ INFOS PRATIQUES ▬▬▬▬▬▬▬▬\n\n22h-04h \n\nLE CHABADA // 56\, Bd du Doyenné - 49100 Angers\n\n▬▬▬ BILLETTERIE ▬▬▬▬▬▬▬▬▬▬▬\n\n● PREVENTE : 14 € (hors frais de loc.)\n- Sur www.audiogenic.fr\n- Réseau Digitick www.digitick.com\n- Réseau Fnac\, Carrefour\, Hyper U\, Geant www.fnac.com\n- Réseau Auchan\, Cora\, Cultura\, Leclerc www.ticketnet.fr\n\n● SUR PLACE : 16 €\n\n▬▬▬ LIENS ▬▬▬▬▬▬▬▬▬▬▬▬▬▬\n\nRetrouvez toute l’actualité du label Audiogenic sur : http://www.audiogenic.fr/ \net sur facebook : http://www.facebook.com/AudiogenicRecords \n\nRejoignez nous également sur notre chaîne Youtube : http://www.youtube.com/AUDIOGENICRECORDS
CLASS:PUBLIC
CATEGORIES:
STATUS:CONFIRMED
PARTSTAT:ACCEPTED
END:VEVENT
END:VCALENDAR
