BEGIN:VCALENDAR
PRODID:RAVE.CA V17.0
X-WR-CALNAME:O C D J
X-ORIGINAL-URL:https://www.rave.ca/event/47581/
VERSION:2.0
CALSCALE:GREGORIAN
METHOD:PUBLISH
BEGIN:VEVENT
DTSTAMP:20131209T110356Z
LAST-MODIFIED:20131209T110356Z
CREATED:20131209T110118Z
SEQUENCE:47581
ORGANIZER:Deadna Productions
DTSTART:20131212T220000Z
DTEND:20131213T030000Z
UID:event_47581@rave.ca
SUMMARY:O C D J
LOCATION:Passeport\, Club
URL:https://www.rave.ca/event/47581/
DESCRIPTION:Deadna prod. presents: Yet another wicked OCDj Thursday! This week we run the gambit from slow n' heavy to fast n' hard\, with some Doomcore\, Dark Minimal Tek\, Hardfloor\, Hardcore\, and Frenchcore! As always\, your awesome local talent on the 1s & 2s :::\n\n--> Crazy Dolly (Tekno Agricole) [Hardfloor\, Frenchcore]\n--> FootLoop [Dark Minimal Techno]\n--> LVX (Gehenna) [Doomcore\, Dark Techno]\n--> resident Dj: Na (Deadna\, Quebecore) [Hardcore\, etc.]\n\nOnly 4$ at the door! (Coat-check included)\n@ Bar Passeport\, 2037 St.Denis (Sherbrooke or Berri metro)\n\nSpecials:\n- Pitcher 10$\n- Pint 5.50$\n- Shots 2/6$\n\nLinks:\n\nOCDj Group : https://www.facebook.com/groups/107023729332902/\n\nFootLoop : http://www.mixcloud.com/petitpied/footloop-minimal-tech-live-mistery-room-underground/\n\nNa : https://www.Soundcloud.com/deadna
CLASS:PUBLIC
CATEGORIES:
STATUS:CONFIRMED
PARTSTAT:ACCEPTED
END:VEVENT
END:VCALENDAR
