BEGIN:VCALENDAR
PRODID:RAVE.CA V17.0
X-WR-CALNAME:A M P - The Nightmare After X-Mas
X-ORIGINAL-URL:https://www.rave.ca/event/47580/
VERSION:2.0
CALSCALE:GREGORIAN
METHOD:PUBLISH
BEGIN:VEVENT
DTSTAMP:20131205T104844Z
LAST-MODIFIED:20131205T104844Z
CREATED:20131205T104325Z
SEQUENCE:47580
ORGANIZER:Deadna Productions
DTSTART:20131226T220000Z
DTEND:20131227T030000Z
UID:event_47580@rave.ca
SUMMARY:A M P - The Nightmare After X-Mas
LOCATION:Passeport\, Club
URL:https://www.rave.ca/event/47580/
DESCRIPTION:Gehenna & Deadna & I prod. present : AMP\n[ In association with OCDj Thursdays ]\n\nOn Thursday\, December 26th 2013\, we give you 'The Nightmare After X-Mas' edition of AMP -- With special guest DJs\, and a few presents waiting for you at the bar! :::\n\n--> Biotek (Qc\, CODEX)\n--> Arketype (DWN)\n--> resident Dj: Na (Deadna\, Quebecore)\n--> resident Dj: LVX (Gehenna)\n[Industrial\, Traditional-Industrial\, DoomCore\, RhythmicNoise\, PowerNoise\, DarkCore\, Harsh-Indus\, IDM\, Aggrotek]\n\n4$ at the door (Coat-check included)\n@ Bar Passeport\, 2037 St.Denis\n(Berri-UQAM or Sherbrooke metro)\n\nSpecials :\n- Pitcher 10$\n- Pint 5.50$\n- Shots 2/6$
CLASS:PUBLIC
CATEGORIES:
STATUS:CONFIRMED
PARTSTAT:ACCEPTED
END:VEVENT
END:VCALENDAR
