BEGIN:VCALENDAR
PRODID:RAVE.CA V17.0
X-WR-CALNAME:Exotek X-Mas : Akibel, Ross, Dj Tyga, Verness
X-ORIGINAL-URL:https://www.rave.ca/event/47575/
VERSION:2.0
CALSCALE:GREGORIAN
METHOD:PUBLISH
BEGIN:VEVENT
DTSTAMP:20131202T121045Z
LAST-MODIFIED:20131202T121045Z
CREATED:20131202T120842Z
SEQUENCE:47575
ORGANIZER:Unknown
DTSTART:20131220T220000Z
DTEND:20131221T030000Z
UID:event_47575@rave.ca
SUMMARY:Exotek X-Mas : Akibel\, Ross\, Dj Tyga\, Verness
LOCATION:Passeport\, Club
URL:https://www.rave.ca/event/47575/
DESCRIPTION:Friday\, December 20th / Vendredi le 20 Décembre 2013\n\n// EXOTEK X-MAS //\n(Circus HD Pre-Party)\n\n************************\nROSS's B-Day Bash\n************************\n\n\n######################################\n\n10:00 - 11:00 : VERNESS\n(Deep House)\n\n11:00 - 1:00 : Dj TygA & VERNESS\n(Deep\, Tech-House & Techno)\n\n1:00 - 2:00 : ROSS\n(Tech & Psy-Trance)\n\n2:00 - 3:00 : AKIBEL\n(Psytrance)\n\n######################################\n\n\n****************************************************\n1 FREE shooter / 1 shooter GRATUIT\n****************************************************\n\n----------------------- BEFORE / AVANT 00:00 --------------------------\n\n-Many drinks / Plusieurs cocktails : $5\n-Shooters on many kinds / sur plusieurs sortes : $2\n-Pinte de Boreale : Pint $4\n\n*****************************************************\n\n\nTickets / Billets : 10$\nDoor / Porte : 12$\n(vestiaire inclus/coat-check included)\n\n\n*Only 120 tickets available / Seulement 120 billets disponibles\n\nTo get your tickets\, you can send a facebook message to / \nPour obtenir vos billets\, vous pouvez envoyer un message facebook à :\n\n*****************************************************\nPASSEPORT \n(At the bar on Fridyas / sur place les vendredis)\n---------------------------------------------------------\n\n- Hugo Gingras : (514) 452-4628\nhttps://www.facebook.com/HugoGingras\n\n\n*****************************************************\nPROMOTER\n--------------\n\nMichel Castilloux : (514) 226-8405\nhttps://www.facebook.com/michel.castilloux\n\n\n****************************************************DJs\n-----------------\n\n- Pierre Babin (Verness)\nhttps://www.facebook.com/babinpierre\n\n- Eric St-Pierre (verness)\nhttps://www.facebook.com/eric.stpierre\n\n-Dj TygA\nhttps://www.facebook.com/djtyga\n\n-Ross\nhttps://www.facebook.com/djross\n\n-Akibel\nhttps://www.facebook.com/Anitakibel\n\n*****************************************************\n\nwww.barpasseport.com\nhttps://www.facebook.com/ExotekNightsFridays\n\n\n#######################################\nPARTENARIAT / PARTNERSHIP\n#######################################\n\nCircus HD : \nhttps://www.facebook.com/circusafterhours\nhttp://circushd.com/\n\nWantikets : \nhttp://www.wantickets.com/\n\n\n--------------------------------------------------------------\nwww.barpasseport.com\nhttps://www.facebook.com/ExotekNightsFridays
CLASS:PUBLIC
CATEGORIES:
STATUS:CONFIRMED
PARTSTAT:ACCEPTED
END:VEVENT
END:VCALENDAR
