BEGIN:VCALENDAR
PRODID:RAVE.CA V17.0
X-WR-CALNAME:Psy Haven Evolution
X-ORIGINAL-URL:https://www.rave.ca/event/47574/
VERSION:2.0
CALSCALE:GREGORIAN
METHOD:PUBLISH
BEGIN:VEVENT
DTSTAMP:20131230T082648Z
LAST-MODIFIED:20131230T082648Z
CREATED:20131128T200058Z
SEQUENCE:47574
ORGANIZER:Unknown
DTSTART:20140125T220000Z
DTEND:20140126T070000Z
UID:event_47574@rave.ca
SUMMARY:Psy Haven Evolution
LOCATION:Fun Haven
URL:https://www.rave.ca/event/47574/
DESCRIPTION:PSYLLABUS Presents:\n\n----PSY HAVEN EVOLUTION 2014----\n\nFunhaven Entertainment Centre\n1050 Baxter Road\, Ottawa\nON\, K2C 3P1\n\n--DIRECTIONS--\nhttp://www.funhaven.com/public/visitus/directions/index.cfm\n\nJanuary 25th\,2014\n\nALL NIGHT PARTY!\n\nDECO DECO DECO! :)\n\nUV!!\n\nFACE PAINTING BY TERRAN\nhttp://terranveda.tumblr.com/\n\nARCADES WITH PRIZES\n\n2 HUGE DANCING AREAS\n\nVISUALS PROVIDED BY THE PSYLLABUS TEAM\n\nFREE WIRELESS THROUGHOUT THE BUILDING \n\n6 ATTRACTIONS\n\n-UV Psytrance Lazer Tag \n-Lazer frenzy\n-Mini bowling\n-Foam ball fortress\n-Comfy zone\n-Bumper cars\n\nFOOD AND REFRESHMENTS AVAILABLE AT THE RESTAURANT OPEN UNTIL 5AM\n\n400 CAPACITY\n\n2 LICENSED BARS UNTIL 2AM\n\n+19 ONLY\n!!!!!I.D. REQUIRED!!!! \nNO EXCEPTIONS\n\nMANDATORY COAT CHECK\n\nNO OUTSIDE FOOD OR DRINK\n\nEXPERIENCED SECURITY PRESENT FOR YOUR SAFETY\n\nR.O.A.R.\n\n\n2 STAGES WITH BIG AND QUALITY SOUND \n\n----=====PSYCHO STAGE====----\nPsychedelic genres for the active mind and body\n\nSOUTHWILD (Live Set) \n\nDark Forest Psytrance\n!!Unreleased Tracks!!\nLIVE SET\nWildthings Records (Black Forest - Germany)\n\nStarting as a DJ at legendary wild forest parties over 15 years ago\, Jay has always been into psy-trance and electronic music. \nJay has played live and mixed DJ sets all around the globe and up to this day he keeps travelling between continents playing his music with an uplifting and positive energy.\n\nhttp://soundcloud.com/southwild\nhttp://wildthingsrecords.co.uk/\nhttp://www.facebook.com/pages/SOUTHWILD-Wildthings-records/183403701717077\n\n---------------------------------------------\n\nRASTALIENS (DJ set)\n\nMental Psytrance\nBOOM records -Germany/Switzerland\nDJ SET from Juergen Kassel\nhttp://www.psydb.net/artists/r/rastaliens.php\nhttp://soundcloud.com/groups/rastaliens\n\nBIO coming soon\n\n---------------------------------------------\n\nDATA DECAY (DJ set)\nF.A.K./PSYLLABUS/TUNDRA RECORDS\nFull-on Dark Psytrance\n\nA complete natural up there\, Tim Mancini a.k.a Data Decay is a seasoned professional that knows how to get a dance floor pumping. Data Decay brings experience and good vibes to every set\, expect to stomp your feet off. \nhttp://www.mixcloud.com/DataDecay\nhttp://www.tundrarecords.org/\n\n---------------------------------------------\n\nSPACE SHIP MANAGER (DJ set)\nALWEEZGROOVEN/S.P.E.C.T./RITUAL NIGHTS\nOuter Space Trance\n\n\nAll the way from outer space\, Spaceship Manager arrives from the deep realms of the universe to bring you a sound of psychedelic trance unlike any other. This DJ brings you cutting edge sounds\, flawless mixing and energy that is truly from another world.\nhttp://www.mixcloud.com/Hashek/dj-hashek-spaceship-manager-progressive-psytrance-mix-october-9th-2011/\n\n---------------------------------------------\n\nNAUT EON (DJ set)\nPSYLLABUS\nDusk Psytrance\n\nA new DJ to the Ottawa scene\, Naut attempts to provide space\, and a path towards that un-manifested potentiality that is both the source and end point of this collective experience.\n\nhttp://www.mixcloud.com/naut/where-this-and-that-meetdjmix/\n\n---------------------------------------------\n\nPSYLLIUM (DJ set)\nPSYLLABUS\nDeep Progressive Psytrance\n\nDJ Psyllium a.k.a. Craig Macleod breathes the party. His main focus is tending to all your senses. It is clear your auditory experience is carefully chosen with intent for the listener. He started Psyllabus in November 2012 to host the first Psyhaven. Here we go again :D\n\n\n----=====TECHNO STAGE====----\nFlowing grooves and funky beats will bring you where you need to be. \n\n\nNeill Macleod (DJ set)\n\nDirty\, Filthy\, Tribal\, Tech\nThis Toronto-based DJ\, whose passion\, energy and sexy beats have brought dance floors to life for over 13 years\, has demonstrated he knows his music.\nwww.neillmacleod.com\n\n---------------------------------------------\n\nZentrix (DJ set)\nZenon Records \nMinimal Techno\n\nOriginating from the West Coast of Canada\, Zentrix has spent the past few years honing his style in the multicultural metropolis of Montréal. With a reputation for dancefloor-rocking DJ sets that combine the high energy mixing of techno with the twisted sound design of cutting edge psychedelic progressive\, Matt has since begun focusing his attention on original productions. His unique take on the emerging psygressive sound has caught the attention of such world class labels as Zenon Records\, Digital Mind\, Glitchy Tonic\, and Ovnimoon Records.\n\nhttp://www.facebook.com/DjZentrix\nhttp://www.zenonrecords.com/\n\n---------------------------------------------\n\nKurt Yates (DJ set) \nBunkerbliss/ Psyllabus / Rough Crew \nHouse/Techno\n\nBorn in Michigan\, legendary in Colorado and now residing in Ottawa\, Ontario\, Canada - DJ KURT YATES has shared the stage with international DJs such as Nick Warren\, Sander Kleinenberg\, Anthony Pappa\, Jimmy Van M\, Sandra Collins\, Chris Fortier\, Kimball Collins\, Hybrid\, Scott Henry\, Super DJ Dmitry (Deee-Lite)\, Cass & Slide\, Jerry Bonham\, Donald Glaude\, Sean Cusick\, Luis Diaz\, Christopher Lawrence\, Grant Plant\, Mark Tabberner\, Vitamin D\, Bones\, Terry Mullan\, DJ Three\, and many others. He remains as enthusiastic as ever to be involved in the scene!\n\nhttp://www.facebook.com/DJ.Kurt.Yates\nhttp://www.mixcloud.com/kurtyates/\nhttp://www.residentadvisor.net/dj/kurtyates\nhttp://www.soundcloud.com/kurt-yates\nhttp://www.twitter.com/Kurt_Yates\n\n\n---------------------------------------------\n\nShawn Orange (DJ set)\nAlweezgrooven / Schwing Productions\nSexy Tribal House\n\nhttps://soundcloud.com/shawn-mercier/electro2\n\nBio coming soon!!\n\n---------------------------------------------\n\nXenognosis\nPsyllabus \nElectro Splinterfunk\n\nXenognosis is a sound-stitcher of intricate rhythms\, visceral textures\, and sculpted bass. Interlocking a diverse palette of musical inspirations\, ranging from glitch-hop\, funk\, DnB\, and crunk to complextro\, progressive trance\, and experimental soundscapes\, Xenognosis strives to synergize genres into a cohesive journey through the mind-dripping alchemy of sound\n\nhttp://soundcloud.com/xenognosis\n\n--------------------------------------------\n\nAdvanced tickets will be available on-line Monday and through tickets venues by the end of the week.\n\nOnly on-line tickets available Until Dec 1st\, 2013\n\nTicket Vendors will be stocked with tangible tickets on Dec 1st\, 2013\n\n\n---------------------------------------------\nBASIC ACCESS PASS\n$$ 35 $$ \nOR\n$$ 30 $$ (OUT OF TOWN PRICE ONLY\, PROOF REQUIRED)\n\n-General access to the event\, both stages and Foam Ball Fortress area. \n-All attractions and arcades can be accessed by loading a FunCard\n\n\n---------------------------------------------\nFULL ACCESS PASS \n$$ 50 $$\nOR\n$$ 40 $$ (OUT OF TOWN PRICE ONLY\, PROOF REQUIRED)\n\n-General access to the event\, both stages\n-Access to all attractions (Laser Frenzy\, Bumper Cars\, Ballocty and Rock Wall until 5am\; Laser Tag until 2am)\n-$2.50 FunCard for games\n-Ticket for one slice of pizza and a soft drink (can be redeemed at any time throughout the night\, kitchen closes at 5am)\n\nOUT OF TOWNER? YOU GET A REDUCED PRICE!\n\nPRICES INCREASE AFTER DEC 31\, 2013. GET EM' WHILE THEY ARE HOT AND CHEAP!\n---------------------------------------------\n\nBIGGER. BETTER. EVOLVED.\nAll information will be revealed shortly. Hold tight and get excited\, WE ARE BACK!
CLASS:PUBLIC
CATEGORIES:
STATUS:CONFIRMED
PARTSTAT:ACCEPTED
END:VEVENT
END:VCALENDAR
