BEGIN:VCALENDAR
PRODID:RAVE.CA V17.0
X-WR-CALNAME:A Rough Resolution - 3 Rooms Massive!
X-ORIGINAL-URL:https://www.rave.ca/event/47569/
VERSION:2.0
CALSCALE:GREGORIAN
METHOD:PUBLISH
BEGIN:VEVENT
DTSTAMP:20131124T093145Z
LAST-MODIFIED:20131124T093145Z
CREATED:20131124T092521Z
SEQUENCE:47569
ORGANIZER:Unknown
DTSTART:20131231T200000Z
DTEND:20130101T080000Z
UID:event_47569@rave.ca
SUMMARY:A Rough Resolution - 3 Rooms Massive!
LOCATION:2477 Kaladar Ave.\, Ottawa\, Ontario K1V 8B9
URL:https://www.rave.ca/event/47569/
DESCRIPTION:https://www.facebook.com/events/231668066988065/\n\nwww.resolution2014.info\n_______________________\n**SPECIAL FEATURES**\n_______________________\n\n- Over 50\,000 sq Feet of Party Space!\n\n- 12 HRS OF BASSSS IN YOUR FACE!!\n\n- 2 FLOORS!\n\n- 3 ROOMS! BASS/HARDCORE/LOUNGE & A COOL DOWN AREA!!\n\n-Smoking Area\n\n- OVER 150 ARCADE GAMES!!!! \n(Trade your Tickets for MIDWAY PRIZES!!)\n\n- LAZER TAG \n\n- Glow in the dark MINI GOLF! ( ALSO THE HARDCORE ROOM)\n..DANCE & GOLF !! \n\n- Bumper Cars!\n\n- Balladium!\n\n-FOOD & DRINKS WILL BE AVAILABLE ALL NIGHT!\n(Pizza\, Poutine & More)\n\n-VENDOR BOOTHS WITH ART\, JEWELRY EXT!\n\n______________________________________________\n______________________________________________\n\nTHIS IS HUGE OTTAWA! LETS DO THIS! \;) ♥\n______________________________________________\n______________________________________________\n\n************************************\nMAIN BASS ROOM - DRUM & BASS/DUBSTEP\n************************************\n\nSLIP & SLIDE \nTORONTO = Vinyl Syndicate = D&B\nhttps://myspace.com/vinylsyndicate\nhttp://www.discogs.com/artist/Vinyl+syndicate\n\nDJ LOVE HZ \nTORONTO - HEAVY D&B = RoughCrew.ca\n\nEverybodies Daddy \nTORONTO = DRUM & BASS = Future Perfect Synergy/Ravers Only/Hardcore 313/Konkrete Jungle\n\nSarge & Super Geist \nDUBSTEP = Dub Invasion/Bass Pro shop\n\nDisco - Nekt \nDUBSTEP = Dub Invasion/Bass Pro Shop\n\nHost1 .vs. Hidden1 \nMONTREAL = HEAVY D&B\n\nDj Serenity \nDUBSTEP = Roughcrew.ca/ dubplate.fm/serenity\n\nDubZee.vs. Presha \nTORONTO= DRUM & BASS\n\nMz. REVOLUTION \nREGGA BASS\n\nDj Mugz \nTRAP/DUBSTEP/DRUM&BASS = Roughcrew.ca\n\nJc Boom \nTRAP/DUBSTEP/DRUM & BASS\n\nRedeyz \nHEAVY DUBSTEP = Roughcrew.ca/Badman press\n\nMC: Messy = D.B.S\n\n***************************************************\nHARDCORE ROOM - HARDCORE/PSYTRANCE/HARDSTYLE/HHC\n***************************************************\n\nDj Garidose \nHARDCORE = Roughcrew.ca\n\nPsycronik \nPSYTRANCE = F.A.K\n\nK-Tops \nHAPPY HARDCORE = Roughcrew.ca/ Imaginary rainbow\n\nDj Lazirus \nUK HARDCORE = TheShocker.ca\n\nMad Rushin' \nHARDCORE = Theshocker.ca\n\nDj Kirby \nUK HARDCORE \n\nDj Ext \nGABBER = CHC/Kanibalz\n\nShipwreck \nPSYTRANCE = F.A.K\n\nD-Mize \nHARDCORE/SPEEDCORE/FRENCHCORE = Roughcrew.ca/ theshocker.ca\n\nDarken \nHARDCORE/GABBER = theshocker.ca\n\nData Decay \nPSYTRANCE = F.A.K/Ritual Nights\n\n*****************************\nLOUNGE ROOM - HOUSE & BREAKS\n*****************************\n\nEcho Swift \nHEAVY ELECTRO = Roughcrew.ca\n\n\nDoc Savage\nBREAKS/HOUSE/TECH = Bleepity Bloop\, Hypothetical\, Synergy\n\nDj JD \nGHETTO FUNK = Roughcrew.ca\n\nDj DCR\nToronto =TRANCE \n\nThe TrackStars \nAMAZING HOUSE \n\nMark Nickolas VS Mark Hughes \nDEEP BUMPIN' HOUSE\n\nAtom Bomb - Windsor Ont\nBOOTY TECH\n\nKurt Yates \nHEAVY BASS HOUSE = Roughcrew.ca/ alweezgrooven\n\nThe Ace Of Fades \nSLAMMIN BREAKS = Roughcrew.ca\n\nDeuce D \nHEAVY BREAKS = Roughcrew.ca\n_________________________________________________\n_________________________________________________\n\n::THIS WILL BE A LOCK IN EVENT! ONCE YOU ARE IN\, YOU DON'T GO OUTSIDE UNLESS YOU ARE LEAVING. NO EXCEPTIONS! THERE WILL BE A SMOKING AREA/COOL DOWN AREA FOR EVERYONE TO ENJOY!:: THERE ARE LOCKERS AVAILABLE TO LOCK UP YOUR BELONGINGS!::\n\n\n***TICKETS*** \nONLY 200 ADVANCE TICKETS AVAILABLE!!\n\n1-100 = $20.00\n100-150 = $25.00\n150-200 = $30.00\n\n\nMORE DETAILS & DJ'S TO COME! STAY TUNED CREW!
CLASS:PUBLIC
CATEGORIES:
STATUS:CONFIRMED
PARTSTAT:ACCEPTED
END:VEVENT
END:VCALENDAR
