BEGIN:VCALENDAR
PRODID:RAVE.CA V17.0
X-WR-CALNAME:Xs Montreal Vip Biggest Open Bar - New Years 2014- Djs McMario, Vyktor Maas, Big
X-ORIGINAL-URL:https://www.rave.ca/event/47567/
VERSION:2.0
CALSCALE:GREGORIAN
METHOD:PUBLISH
BEGIN:VEVENT
DTSTAMP:20131115T180242Z
LAST-MODIFIED:20131115T180242Z
CREATED:20131115T180131Z
SEQUENCE:47567
ORGANIZER:Unknown
DTSTART:20131231T210000Z
DTEND:20131231T210000Z
UID:event_47567@rave.ca
SUMMARY:Xs Montreal Vip Biggest Open Bar - New Years 2014- Djs McMario\, Vyktor Maas\, Big
LOCATION:Unknown
URL:https://www.rave.ca/event/47567/
DESCRIPTION:Tuesday\, December 31st\, 2013\nCome And Party With 900 People At Montreal's most Luxurious and Exclusive Venue in the Downtown Montreal - Le Cinq - an ALL-INCLUSIVE New Years Eve Party!!\n\nCelebrate with Class with Montreal New Years XS Party 2014.\n\n7th Year Anniversary featuring:\n\n    Hot Body painting for all by REMX AD\n    Full open bar all night with a Professional staff\n    Shooter girls\n    Champagne at midnight\n    Circus entertainers\n    Famed DJ's\n    Age Restriction: This is an 18+ age event.\n    Doors: 9PM-3AM\n\nTickets & Hotels button 	Tickets button\n\n\nWARNING: This is not your typical party: Party with a Selected 800 people.\n\nThe most exclusive and wildest event in Montreal.\n\nHere's what your purchase get you:\n\n    Regular Open Bar ticket - $109.99 (early bird) - Regular tickets $119.99\n    Open bar on everything all-night from 9pm-3am\n    No huge lines for drinks\n    4 fully stocked open bars\n    Rum\,Vodka\,Gin\,Whiskey\,Tequilla\, and much more including Beer and of course CHAMPAGNE!\n    MC Mario (From Montreal #1 House music radio show on Virgin 96)\n    Big Poppa (From KISS FM NYC)\n    DJ Vyktor Maas (House Music Specialist - Suite 701 / Salon Daome / Peopl.)\n    State of the art sound system and lighting\n    Countdown Surprise\n    Infamous Montreal circus performers\n    Hot Body Painted Models\n    No line ups outside\n\n* Coat check (3$) is not included\n* Tips Are not Included At All Bars\nVIP Ticket - Starting at $149.99\n\nThis ticket gives you VIP access to the Private Lounge and Patio\, along with access to Premium liquor.\n\nEarly Bird VIP tickets available at $149.99 - only 150 available.\n\nVIP TABLES (MAIN FLOOR):\n\n    2 x VIP Booth at $2500\, which includes 1 Magnum of Moet\, 2 Magnum of Grey Goose and 8 tickets\n    1 X VIP Booth (floor) at $2500\, which includes 1 Magnum of Moet\, 2 Magnum of Grey Goose and 8 tickets\n    6 x Stage booth (behind the DJ Booth) available at $2250\, which includes 1 Magnum of Moet\, 2 Magnum of Grey Goose and 6 tickets\n\nPRIVATE LOUNGE TABLES:\n\n    5 x VIP Couches on Balcony of the VIP Lounge (Best view - Private access) at $2000\, which includes 1 Magnum of Moet\, 1 Magnum of Grey Goose and 4 VIP tickets\n    6 x Seated table in the VIP Lounge at $1500\, which includes 1 Magnum of Moet\, 1 Magnum of Grey Goose and 4 VIP tickets
CLASS:PUBLIC
CATEGORIES:
STATUS:CONFIRMED
PARTSTAT:ACCEPTED
END:VEVENT
END:VCALENDAR
