BEGIN:VCALENDAR
PRODID:RAVE.CA V17.0
X-WR-CALNAME:Toy Company - Skweee Edition
X-ORIGINAL-URL:https://www.rave.ca/event/47566/
VERSION:2.0
CALSCALE:GREGORIAN
METHOD:PUBLISH
BEGIN:VEVENT
DTSTAMP:20131112T193431Z
LAST-MODIFIED:20131112T193431Z
CREATED:20131112T192954Z
SEQUENCE:47566
ORGANIZER:Unknown
DTSTART:20131123T200000Z
DTEND:20131124T020000Z
UID:event_47566@rave.ca
SUMMARY:Toy Company - Skweee Edition
LOCATION:Foonzo
URL:https://www.rave.ca/event/47566/
DESCRIPTION:Stepping away from our traditional chiptune/lofi lineup\, we are proud to announce a night filled with a recent genre heavily influenced by dub and chiptune's sound:\n\nTOY COMPANY SKWEEE EDITION FEATURING:\n\nBLEO [NY] - http://bleo.dummydrome.com/\n\nLong standing HEXAWE boss and LGPT master\, bLEO is back after his "Canned in Banada" tour and ready to funk you up with grooves beyond cool.\n\nDkstr [Finland] - http://dkstr.bandcamp.com/\n\nThe chiptune scene's most adored skweee artist\, DKSTR is enjoying another stay in Canada and performing on Toy Company's scene for the first time!\n\nFade Runner [MTL] - https://soundcloud.com/faderunner\n\nAs elusive as he is talented\, the artist formely known as ??? has traded his gameboys for modular synths where he escapes on regular trips\, expanding his genius mind. Don't miss his first live performance since the release of his last album on Tiburoni Records!\n\nFengir [MTL] - http://soundcloud.com/fengir\n\nFounder of the Ancient Robot label and curator of the local skweee scene\, we are ultra pleased to receive Fengir for the first time at Toy Company! Fengir's groove will get your head boppin' and your body movin' before you even realize what's going on.\n\nOpening/Closing DJ Sets by Pocaille\n\nVISUALS BY:\n\nM. Ghosty - [XC3N]]
CLASS:PUBLIC
CATEGORIES:
STATUS:CONFIRMED
PARTSTAT:ACCEPTED
END:VEVENT
END:VCALENDAR
