BEGIN:VCALENDAR
PRODID:RAVE.CA V17.0
X-WR-CALNAME:Capslock
X-ORIGINAL-URL:https://www.rave.ca/event/47565/
VERSION:2.0
CALSCALE:GREGORIAN
METHOD:PUBLISH
BEGIN:VEVENT
DTSTAMP:20131112T192747Z
LAST-MODIFIED:20131112T192747Z
CREATED:20131112T192007Z
SEQUENCE:47565
ORGANIZER:Unknown
DTSTART:20131116T190000Z
DTEND:20131117T020000Z
UID:event_47565@rave.ca
SUMMARY:Capslock
LOCATION:Foonzo
URL:https://www.rave.ca/event/47565/
DESCRIPTION:CAPSLOCK SATURDAYS @ FOONZO GAMING BAR\nChaque Samedi dès 19h: Live DJs + Video Games + Alcohol!\nChiptune\, VGM\, Drum N Bass\, Electro\, Bass et +
CLASS:PUBLIC
CATEGORIES:
STATUS:CONFIRMED
PARTSTAT:ACCEPTED
END:VEVENT
END:VCALENDAR
