BEGIN:VCALENDAR
PRODID:RAVE.CA V17.0
X-WR-CALNAME:Circus Gallery
X-ORIGINAL-URL:https://www.rave.ca/event/47555/
VERSION:2.0
CALSCALE:GREGORIAN
METHOD:PUBLISH
BEGIN:VEVENT
DTSTAMP:20131103T040356Z
LAST-MODIFIED:20131103T040356Z
CREATED:20131103T035839Z
SEQUENCE:47555
ORGANIZER:Unknown
DTSTART:20131220T030000Z
DTEND:20131220T030000Z
UID:event_47555@rave.ca
SUMMARY:Circus Gallery
LOCATION:Unknown
URL:https://www.rave.ca/event/47555/
DESCRIPTION:TECHNO NIGHTS and official Bar Passeport AfterParty:\nline up\n03.00 - 05.00 WARLOW ( ex DJ Sphinx - Ca)\n05.00 - 07.00 DJ TygA ( Fr)\n---------------------------------------------------\nOnline tickets: http://circushd.com/tickets
CLASS:PUBLIC
CATEGORIES:
STATUS:CONFIRMED
PARTSTAT:ACCEPTED
END:VEVENT
END:VCALENDAR
