BEGIN:VCALENDAR
PRODID:RAVE.CA V17.0
X-WR-CALNAME:To The Stars - Blood &amp; Bounce - Halloween Party @crawford
X-ORIGINAL-URL:https://www.rave.ca/event/47547/
VERSION:2.0
CALSCALE:GREGORIAN
METHOD:PUBLISH
BEGIN:VEVENT
DTSTAMP:20131026T175243Z
LAST-MODIFIED:20131026T175243Z
CREATED:20131026T174306Z
SEQUENCE:47547
ORGANIZER:Unknown
DTSTART:20131031T220000Z
DTEND:20131101T024500Z
UID:event_47547@rave.ca
SUMMARY:To The Stars - Blood & Bounce - Halloween Party @crawford
LOCATION:Unknown
URL:https://www.rave.ca/event/47547/
DESCRIPTION:Just one week after our wild launch party\, the crew at Sub Standard Collective and the lovely staff at Crawford are back at it just in time for Halloween\, with another edition of From the Gutter To the Stars!!!\n\nGet ready for continuous high-energy beats with a decidedly spooky twist!\n\nCOVER CHARGE INCLUDES ONE SHOT\nDOWNSTAIRS IN THE SUB\n\nSHOTS $3.50\nPILSNER CANS $4.50\nBAR RAIL DRINKS $4.50\nPILSNER KING CANS $5.50\n\nFeaturing DJs:\nCenturion\nDangrmeister (AUS)\n\nSPONSORED BY PINNACLE VODKA AND OLD-STYLE PILSNER\n\nCenturion\n[url]soundcloud.com/centurion-beats[/url]\n[url]soundcloud.com/stylereese[/url]\n[url]mixlr.com/centurion-beats/showreel[/url]\nOpening up the night is Sub Standard Collective's resident sonic warrior\, Centurion. With a fervent passion for mutated basslines\, combative percussion\, and the absurd and existential\, his sets are violent\, high-energy and moody - perfect for a haunting Halloween night.\n\nDangrmeister (AUS)\nHailing all the way from Sydney\, Australia\, Dangrmeister is a veteran DJ with a strong affinity towards bouncy breakbeats. Whether behind the decks or behind the bar\, Dangrmeister's mixology skills are unrivaled. He's taken home awards and been featured on the news for his creative cocktails\, and his regular DJ sets at Montauk and Samuel J. Moore are always as fresh and inspiring as his drinks.\n\n[url]crawfordbar.com[/url]\n[url]acebook.com/substandardcollective[/url]
CLASS:PUBLIC
CATEGORIES:
STATUS:CONFIRMED
PARTSTAT:ACCEPTED
END:VEVENT
END:VCALENDAR
