BEGIN:VCALENDAR
PRODID:RAVE.CA V17.0
X-WR-CALNAME:O C D J
X-ORIGINAL-URL:https://www.rave.ca/event/47542/
VERSION:2.0
CALSCALE:GREGORIAN
METHOD:PUBLISH
BEGIN:VEVENT
DTSTAMP:20131024T133659Z
LAST-MODIFIED:20131024T133659Z
CREATED:20131024T133121Z
SEQUENCE:47542
ORGANIZER:Deadna Productions
DTSTART:20131024T220000Z
DTEND:20131025T030000Z
UID:event_47542@rave.ca
SUMMARY:O C D J
LOCATION:Passeport\, Club
URL:https://www.rave.ca/event/47542/
DESCRIPTION:Deadna prod. presents: A night of dirty filthy hard core techno at OCDj Thursdays -- We're goin' all out this week\, with HARD vs. CORE!! 5 hours of all the styles of Hardcore you can imagine\, with your insane local talent on the decks :::\n\n--> One Lab Rat (NDFU / 80\,000) [Hardcore]\n--> Controversial Noize (Hard As Fuck) [Frenchcore]\n--> Princest Opiate (NDFU) [Hardcore\, etc.]\n--> resident Dj: Na (Deadna / Quebecore) [Doom/Darkcore\, Hardcore\, Gabber]\n\nOnly 4$ at the door! (Coat-check included)\n@ Bar Passeport\, 2037 St.Denis (Sherbrooke or Berri metro)\n\nTo boot: This night is doubling as a 'warm-up' party for MORT IV !! We will be giving away a pair of tickets for that event\, which takes place the next day\, October 25th !! http://www.rave.ca/en/event/47322/
CLASS:PUBLIC
CATEGORIES:
STATUS:CONFIRMED
PARTSTAT:ACCEPTED
END:VEVENT
END:VCALENDAR
