BEGIN:VCALENDAR
PRODID:RAVE.CA V17.0
X-WR-CALNAME:Henry Saiz (Es) @ Penthouse 514-622-7099
X-ORIGINAL-URL:https://www.rave.ca/event/47538/
VERSION:2.0
CALSCALE:GREGORIAN
METHOD:PUBLISH
BEGIN:VEVENT
DTSTAMP:20131023T230621Z
LAST-MODIFIED:20131023T230621Z
CREATED:20131023T230340Z
SEQUENCE:47538
ORGANIZER:Unknown
DTSTART:20131101T220000Z
DTEND:20131102T030000Z
UID:event_47538@rave.ca
SUMMARY:Henry Saiz (Es) @ Penthouse 514-622-7099
LOCATION:Unknown
URL:https://www.rave.ca/event/47538/
DESCRIPTION:HENRY SAIZ (Spain) + MAX RAIN (MTL) @ PENTHOUSE\nHALLOWEEN WEEKEND !!\n\n*** TICKETS/BILLETS\; 514-622-7099 ***
CLASS:PUBLIC
CATEGORIES:
STATUS:CONFIRMED
PARTSTAT:ACCEPTED
END:VEVENT
END:VCALENDAR
